BEGIN:VCALENDAR
VERSION:2.0
PRODID:-//Immanuel Christian School - ECPv6.15.20//NONSGML v1.0//EN
CALSCALE:GREGORIAN
METHOD:PUBLISH
X-ORIGINAL-URL:https://www.icsva.org
X-WR-CALDESC:Events for Immanuel Christian School
REFRESH-INTERVAL;VALUE=DURATION:PT1H
X-Robots-Tag:noindex
X-PUBLISHED-TTL:PT1H
BEGIN:VTIMEZONE
TZID:America/New_York
BEGIN:DAYLIGHT
TZOFFSETFROM:-0500
TZOFFSETTO:-0400
TZNAME:EDT
DTSTART:20250309T070000
END:DAYLIGHT
BEGIN:STANDARD
TZOFFSETFROM:-0400
TZOFFSETTO:-0500
TZNAME:EST
DTSTART:20251102T060000
END:STANDARD
BEGIN:DAYLIGHT
TZOFFSETFROM:-0500
TZOFFSETTO:-0400
TZNAME:EDT
DTSTART:20260308T070000
END:DAYLIGHT
BEGIN:STANDARD
TZOFFSETFROM:-0400
TZOFFSETTO:-0500
TZNAME:EST
DTSTART:20261101T060000
END:STANDARD
BEGIN:DAYLIGHT
TZOFFSETFROM:-0500
TZOFFSETTO:-0400
TZNAME:EDT
DTSTART:20270314T070000
END:DAYLIGHT
BEGIN:STANDARD
TZOFFSETFROM:-0400
TZOFFSETTO:-0500
TZNAME:EST
DTSTART:20271107T060000
END:STANDARD
END:VTIMEZONE
BEGIN:VEVENT
DTSTART;TZID=America/New_York:20260505T160000
DTEND;TZID=America/New_York:20260505T171500
DTSTAMP:20260424T091353
CREATED:20260213T014826Z
LAST-MODIFIED:20260424T070321Z
UID:10001925-1777996800-1778001300@www.icsva.org
SUMMARY:MSG Soccer vs Fredericksburg Christian School
DESCRIPTION:
URL:https://www.icsva.org/event/msg-soccer-vs-fredericksburg-christian-school-2/
LOCATION:Immanuel Christian School\, 6915 Braddock Rd\, Annandale\, VA\, United States
CATEGORIES:Athletics
GEO:38.811961;-77.183314
X-APPLE-STRUCTURED-LOCATION;VALUE=URI;X-ADDRESS=Immanuel Christian School 6915 Braddock Rd Annandale VA United States;X-APPLE-RADIUS=500;X-TITLE=6915 Braddock Rd:geo:-77.183314,38.811961
END:VEVENT
BEGIN:VEVENT
DTSTART;TZID=America/New_York:20260505T161500
DTEND;TZID=America/New_York:20260505T171500
DTSTAMP:20260424T091353
CREATED:20260227T031825Z
LAST-MODIFIED:20260323T044829Z
UID:10001942-1777997700-1778001300@www.icsva.org
SUMMARY:Flag Football vs Fairfax Christian School
DESCRIPTION:
URL:https://www.icsva.org/event/flag-football-vs-fairfax-christian-school-3/
LOCATION:Vint Hill Village Green Community Center\, 4235 Aiken Dr\, Warrenton\, VA\, United States
CATEGORIES:Athletics
GEO:38.744662;-77.683466
X-APPLE-STRUCTURED-LOCATION;VALUE=URI;X-ADDRESS=Vint Hill Village Green Community Center 4235 Aiken Dr Warrenton VA United States;X-APPLE-RADIUS=500;X-TITLE=4235 Aiken Dr:geo:-77.683466,38.744662
END:VEVENT
BEGIN:VEVENT
DTSTART;TZID=America/New_York:20260505T171500
DTEND;TZID=America/New_York:20260505T181500
DTSTAMP:20260424T091353
CREATED:20260227T031825Z
LAST-MODIFIED:20260323T044829Z
UID:10001941-1778001300-1778004900@www.icsva.org
SUMMARY:Flag Football vs Providence Academy
DESCRIPTION:
URL:https://www.icsva.org/event/flag-football-vs-providence-academy-2/
LOCATION:Vint Hill Village Green Community Center\, 4235 Aiken Dr\, Warrenton\, VA\, United States
CATEGORIES:Athletics
GEO:38.744662;-77.683466
X-APPLE-STRUCTURED-LOCATION;VALUE=URI;X-ADDRESS=Vint Hill Village Green Community Center 4235 Aiken Dr Warrenton VA United States;X-APPLE-RADIUS=500;X-TITLE=4235 Aiken Dr:geo:-77.683466,38.744662
END:VEVENT
BEGIN:VEVENT
DTSTART;TZID=America/New_York:20260507T161500
DTEND;TZID=America/New_York:20260507T171500
DTSTAMP:20260424T091353
CREATED:20260324T044819Z
LAST-MODIFIED:20260424T070322Z
UID:10001966-1778170500-1778174100@www.icsva.org
SUMMARY:Flag Football @ Fairfax Christian School
DESCRIPTION:
URL:https://www.icsva.org/event/flag-football-fairfax-christian-school-2/
LOCATION:Vint Hill Village Green Community Center\, 4235 Aiken Dr\, Warrenton\, VA\, United States
CATEGORIES:Athletics
GEO:38.744662;-77.683466
X-APPLE-STRUCTURED-LOCATION;VALUE=URI;X-ADDRESS=Vint Hill Village Green Community Center 4235 Aiken Dr Warrenton VA United States;X-APPLE-RADIUS=500;X-TITLE=4235 Aiken Dr:geo:-77.683466,38.744662
END:VEVENT
BEGIN:VEVENT
DTSTART;TZID=America/New_York:20260507T163000
DTEND;TZID=America/New_York:20260507T180000
DTSTAMP:20260424T091353
CREATED:20260213T014826Z
LAST-MODIFIED:20260424T070322Z
UID:10001927-1778171400-1778176800@www.icsva.org
SUMMARY:VG Soccer @ Evergreen Christian School
DESCRIPTION:
URL:https://www.icsva.org/event/vg-soccer-evergreen-christian-school/
LOCATION:Evergreen Christian School\, 21336 Evergreen Mills Rd\, Leesburg\, VA\, United States
CATEGORIES:Athletics
GEO:39.030952;-77.581975
X-APPLE-STRUCTURED-LOCATION;VALUE=URI;X-ADDRESS=Evergreen Christian School 21336 Evergreen Mills Rd Leesburg VA United States;X-APPLE-RADIUS=500;X-TITLE=21336 Evergreen Mills Rd:geo:-77.581975,39.030952
END:VEVENT
BEGIN:VEVENT
DTSTART;TZID=America/New_York:20260507T171500
DTEND;TZID=America/New_York:20260507T181500
DTSTAMP:20260424T091353
CREATED:20260324T044819Z
LAST-MODIFIED:20260424T070322Z
UID:10001965-1778174100-1778177700@www.icsva.org
SUMMARY:Flag Football @ Christ Chapel Academy
DESCRIPTION:
URL:https://www.icsva.org/event/flag-football-christ-chapel-academy-2/
LOCATION:Vint Hill Village Green Community Center\, 4235 Aiken Dr\, Warrenton\, VA\, United States
CATEGORIES:Athletics
GEO:38.744662;-77.683466
X-APPLE-STRUCTURED-LOCATION;VALUE=URI;X-ADDRESS=Vint Hill Village Green Community Center 4235 Aiken Dr Warrenton VA United States;X-APPLE-RADIUS=500;X-TITLE=4235 Aiken Dr:geo:-77.683466,38.744662
END:VEVENT
BEGIN:VEVENT
DTSTART;VALUE=DATE:20260508
DTEND;VALUE=DATE:20260509
DTSTAMP:20260424T091353
CREATED:20260213T014826Z
LAST-MODIFIED:20260424T070322Z
UID:10001928-1778198400-1778284799@www.icsva.org
SUMMARY:V Baseball @ Seton School
DESCRIPTION:
URL:https://www.icsva.org/event/v-baseball-seton-school/
LOCATION:VA
CATEGORIES:Athletics
END:VEVENT
BEGIN:VEVENT
DTSTART;VALUE=DATE:20260509
DTEND;VALUE=DATE:20260510
DTSTAMP:20260424T091353
CREATED:20260414T064816Z
LAST-MODIFIED:20260424T070322Z
UID:10001972-1778284800-1778371199@www.icsva.org
SUMMARY:Track and Field- FHS Invitational
DESCRIPTION:
URL:https://www.icsva.org/event/track-and-field-fhs-invitational/
LOCATION:Westfield High School\, 4700 Stonecroft Blvd\, Chantilly\, VA\, United States
CATEGORIES:Athletics
GEO:38.884315;-77.462053
X-APPLE-STRUCTURED-LOCATION;VALUE=URI;X-ADDRESS=Westfield High School 4700 Stonecroft Blvd Chantilly VA United States;X-APPLE-RADIUS=500;X-TITLE=4700 Stonecroft Blvd:geo:-77.462053,38.884315
END:VEVENT
BEGIN:VEVENT
DTSTART;TZID=America/New_York:20260511T170000
DTEND;TZID=America/New_York:20260511T190000
DTSTAMP:20260424T091353
CREATED:20260213T014826Z
LAST-MODIFIED:20260424T070322Z
UID:10001929-1778518800-1778526000@www.icsva.org
SUMMARY:V Baseball @ Flames Home School
DESCRIPTION:
URL:https://www.icsva.org/event/v-baseball-flames-home-school/
LOCATION:Champions 53 Field\, Front Royal\, VA\, United States
CATEGORIES:Athletics
GEO:38.928308;-78.174537
END:VEVENT
BEGIN:VEVENT
DTSTART;VALUE=DATE:20260515
DTEND;VALUE=DATE:20260516
DTSTAMP:20260424T091353
CREATED:20260414T064816Z
LAST-MODIFIED:20260424T070322Z
UID:10001974-1778803200-1778889599@www.icsva.org
SUMMARY:Track and Field- VISAA State Meet
DESCRIPTION:
URL:https://www.icsva.org/event/track-and-field-visaa-state-meet/
LOCATION:Randolph College\, 2500 Rivermont Ave\, Lynchburg\, VA\, United States
CATEGORIES:Athletics
GEO:37.435023;-79.171392
X-APPLE-STRUCTURED-LOCATION;VALUE=URI;X-ADDRESS=Randolph College 2500 Rivermont Ave Lynchburg VA United States;X-APPLE-RADIUS=500;X-TITLE=2500 Rivermont Ave:geo:-79.171392,37.435023
END:VEVENT
BEGIN:VEVENT
DTSTART;VALUE=DATE:20260516
DTEND;VALUE=DATE:20260517
DTSTAMP:20260424T091353
CREATED:20260414T064816Z
LAST-MODIFIED:20260424T070323Z
UID:10001973-1778889600-1778975999@www.icsva.org
SUMMARY:Track and Field- SPIRE Twilight Classic
DESCRIPTION:
URL:https://www.icsva.org/event/track-and-field-spire-twilight-classic/
LOCATION:Thomas Jefferson High School for Science and Technology\, 6560 Braddock Rd\, Alexandria\, VA\, United States
CATEGORIES:Athletics
GEO:38.817144;-77.167583
X-APPLE-STRUCTURED-LOCATION;VALUE=URI;X-ADDRESS=Thomas Jefferson High School for Science and Technology 6560 Braddock Rd Alexandria VA United States;X-APPLE-RADIUS=500;X-TITLE=6560 Braddock Rd:geo:-77.167583,38.817144
END:VEVENT
BEGIN:VEVENT
DTSTART;VALUE=DATE:20260911
DTEND;VALUE=DATE:20260912
DTSTAMP:20260424T091353
CREATED:20260201T000314Z
LAST-MODIFIED:20260424T070323Z
UID:10001867-1789084800-1789171199@www.icsva.org
SUMMARY:Carwash
DESCRIPTION:
URL:https://www.icsva.org/event/carwash/
LOCATION:VA
CATEGORIES:Athletics
END:VEVENT
END:VCALENDAR