BEGIN:VCALENDAR
VERSION:2.0
PRODID:-//Immanuel Christian School - ECPv6.15.20//NONSGML v1.0//EN
CALSCALE:GREGORIAN
METHOD:PUBLISH
X-WR-CALNAME:Immanuel Christian School
X-ORIGINAL-URL:https://www.icsva.org
X-WR-CALDESC:Events for Immanuel Christian School
REFRESH-INTERVAL;VALUE=DURATION:PT1H
X-Robots-Tag:noindex
X-PUBLISHED-TTL:PT1H
BEGIN:VTIMEZONE
TZID:America/New_York
BEGIN:DAYLIGHT
TZOFFSETFROM:-0500
TZOFFSETTO:-0400
TZNAME:EDT
DTSTART:20240310T070000
END:DAYLIGHT
BEGIN:STANDARD
TZOFFSETFROM:-0400
TZOFFSETTO:-0500
TZNAME:EST
DTSTART:20241103T060000
END:STANDARD
BEGIN:DAYLIGHT
TZOFFSETFROM:-0500
TZOFFSETTO:-0400
TZNAME:EDT
DTSTART:20250309T070000
END:DAYLIGHT
BEGIN:STANDARD
TZOFFSETFROM:-0400
TZOFFSETTO:-0500
TZNAME:EST
DTSTART:20251102T060000
END:STANDARD
BEGIN:DAYLIGHT
TZOFFSETFROM:-0500
TZOFFSETTO:-0400
TZNAME:EDT
DTSTART:20260308T070000
END:DAYLIGHT
BEGIN:STANDARD
TZOFFSETFROM:-0400
TZOFFSETTO:-0500
TZNAME:EST
DTSTART:20261101T060000
END:STANDARD
END:VTIMEZONE
BEGIN:VEVENT
DTSTART;TZID=America/New_York:20250809T070000
DTEND;TZID=America/New_York:20250809T081500
DTSTAMP:20260424T090552
CREATED:20250624T204839Z
LAST-MODIFIED:20250809T000323Z
UID:10001664-1754722800-1754727300@www.icsva.org
SUMMARY:Varsity XC Tryouts- Time Trials
DESCRIPTION:
URL:https://www.icsva.org/event/varsity-xc-tryouts-time-trials/
LOCATION:Wakefield Park\, Annandale\, VA\, United States
CATEGORIES:Athletics
GEO:38.818724;-77.193037
END:VEVENT
BEGIN:VEVENT
DTSTART;TZID=America/New_York:20250811T070000
DTEND;TZID=America/New_York:20250811T081500
DTSTAMP:20260424T090552
CREATED:20250624T204839Z
LAST-MODIFIED:20250811T000318Z
UID:10001665-1754895600-1754900100@www.icsva.org
SUMMARY:Varsity XC practice
DESCRIPTION:
URL:https://www.icsva.org/event/varsity-xc-practice-4/
LOCATION:Wakefield Park\, Annandale\, VA\, United States
CATEGORIES:Athletics
GEO:38.818724;-77.193037
END:VEVENT
BEGIN:VEVENT
DTSTART;TZID=America/New_York:20250811T160000
DTEND;TZID=America/New_York:20250811T180000
DTSTAMP:20260424T090552
CREATED:20250624T204840Z
LAST-MODIFIED:20250811T000318Z
UID:10001666-1754928000-1754935200@www.icsva.org
SUMMARY:High School Girls Volleyball Tryouts
DESCRIPTION:
URL:https://www.icsva.org/event/high-school-girls-volleyball-tryouts-3/
LOCATION:VA
CATEGORIES:Athletics
END:VEVENT
BEGIN:VEVENT
DTSTART;TZID=America/New_York:20250812T070000
DTEND;TZID=America/New_York:20250812T081500
DTSTAMP:20260424T090552
CREATED:20250624T204840Z
LAST-MODIFIED:20250812T000312Z
UID:10001667-1754982000-1754986500@www.icsva.org
SUMMARY:Varsity XC practice
DESCRIPTION:
URL:https://www.icsva.org/event/varsity-xc-practice-5/
LOCATION:Wakefield Park\, Annandale\, VA\, United States
CATEGORIES:Athletics
GEO:38.818724;-77.193037
END:VEVENT
BEGIN:VEVENT
DTSTART;TZID=America/New_York:20250812T140000
DTEND;TZID=America/New_York:20250812T160000
DTSTAMP:20260424T090552
CREATED:20250624T204840Z
LAST-MODIFIED:20250812T000313Z
UID:10001668-1755007200-1755014400@www.icsva.org
SUMMARY:High School Boys Soccer Open Field
DESCRIPTION:
URL:https://www.icsva.org/event/high-school-boys-soccer-open-field-7/
LOCATION:Immanuel Christian School\, 6915 Braddock Rd\, Annandale\, VA\, United States
CATEGORIES:Athletics
GEO:38.811961;-77.183314
X-APPLE-STRUCTURED-LOCATION;VALUE=URI;X-ADDRESS=Immanuel Christian School 6915 Braddock Rd Annandale VA United States;X-APPLE-RADIUS=500;X-TITLE=6915 Braddock Rd:geo:-77.183314,38.811961
END:VEVENT
BEGIN:VEVENT
DTSTART;TZID=America/New_York:20250812T160000
DTEND;TZID=America/New_York:20250812T180000
DTSTAMP:20260424T090553
CREATED:20250624T204840Z
LAST-MODIFIED:20250812T000313Z
UID:10001669-1755014400-1755021600@www.icsva.org
SUMMARY:High School Girls Volleyball Tryouts
DESCRIPTION:
URL:https://www.icsva.org/event/high-school-girls-volleyball-tryouts-4/
LOCATION:VA
CATEGORIES:Athletics
END:VEVENT
BEGIN:VEVENT
DTSTART;TZID=America/New_York:20250814T070000
DTEND;TZID=America/New_York:20250814T081500
DTSTAMP:20260424T090553
CREATED:20250624T204840Z
LAST-MODIFIED:20250814T002018Z
UID:10001670-1755154800-1755159300@www.icsva.org
SUMMARY:Varsity XC practice
DESCRIPTION:
URL:https://www.icsva.org/event/varsity-xc-practice-6/
LOCATION:Wakefield Park\, Annandale\, VA\, United States
CATEGORIES:Athletics
GEO:38.818724;-77.193037
END:VEVENT
BEGIN:VEVENT
DTSTART;TZID=America/New_York:20250815T070000
DTEND;TZID=America/New_York:20250815T081500
DTSTAMP:20260424T090553
CREATED:20250624T204840Z
LAST-MODIFIED:20250815T003315Z
UID:10001671-1755241200-1755245700@www.icsva.org
SUMMARY:Varsity XC practice
DESCRIPTION:
URL:https://www.icsva.org/event/varsity-xc-practice-7/
LOCATION:Wakefield Park\, Annandale\, VA\, United States
CATEGORIES:Athletics
GEO:38.818724;-77.193037
END:VEVENT
BEGIN:VEVENT
DTSTART;TZID=America/New_York:20250818T140000
DTEND;TZID=America/New_York:20250818T160000
DTSTAMP:20260424T090553
CREATED:20250624T204841Z
LAST-MODIFIED:20250818T010327Z
UID:10001672-1755525600-1755532800@www.icsva.org
SUMMARY:Varsity Boys Soccer Tryouts
DESCRIPTION:
URL:https://www.icsva.org/event/varsity-boys-soccer-tryouts-2/
LOCATION:Immanuel Christian School\, 6915 Braddock Rd\, Annandale\, VA\, United States
CATEGORIES:Athletics
GEO:38.811961;-77.183314
X-APPLE-STRUCTURED-LOCATION;VALUE=URI;X-ADDRESS=Immanuel Christian School 6915 Braddock Rd Annandale VA United States;X-APPLE-RADIUS=500;X-TITLE=6915 Braddock Rd:geo:-77.183314,38.811961
END:VEVENT
BEGIN:VEVENT
DTSTART;TZID=America/New_York:20250829T150000
DTEND;TZID=America/New_York:20250829T170000
DTSTAMP:20260424T090553
CREATED:20250821T011813Z
LAST-MODIFIED:20250829T021810Z
UID:10001674-1756479600-1756486800@www.icsva.org
SUMMARY:HS XC Meet- Trials of Miles
DESCRIPTION:
URL:https://www.icsva.org/event/hs-xc-meet-trials-of-miles/
LOCATION:Morven Park Grounds\, 17339 Southern Planter Ln\, Leesburg\, VA\, United States
CATEGORIES:Athletics
GEO:39.137391;-77.572445
X-APPLE-STRUCTURED-LOCATION;VALUE=URI;X-ADDRESS=Morven Park Grounds 17339 Southern Planter Ln Leesburg VA United States;X-APPLE-RADIUS=500;X-TITLE=17339 Southern Planter Ln:geo:-77.572445,39.137391
END:VEVENT
BEGIN:VEVENT
DTSTART;TZID=America/New_York:20250829T153000
DTEND;TZID=America/New_York:20250829T170000
DTSTAMP:20260424T090553
CREATED:20250821T011813Z
LAST-MODIFIED:20250829T021810Z
UID:10001673-1756481400-1756486800@www.icsva.org
SUMMARY:V Soccer vs. Fairfax Home School
DESCRIPTION:
URL:https://www.icsva.org/event/v-soccer-vs-fairfax-home-school/
LOCATION:Loisdale Park\, 7419 Loisdale Rd\, Springfield\, VA\, United States
CATEGORIES:Athletics
GEO:38.75777;-77.182794
X-APPLE-STRUCTURED-LOCATION;VALUE=URI;X-ADDRESS=Loisdale Park 7419 Loisdale Rd Springfield VA United States;X-APPLE-RADIUS=500;X-TITLE=7419 Loisdale Rd:geo:-77.182794,38.75777
END:VEVENT
BEGIN:VEVENT
DTSTART;TZID=America/New_York:20250902T160000
DTEND;TZID=America/New_York:20250902T171500
DTSTAMP:20260424T090553
CREATED:20250821T011813Z
LAST-MODIFIED:20250902T023316Z
UID:10001675-1756828800-1756833300@www.icsva.org
SUMMARY:JV Volleyball vs. Trinity at Meadow View
DESCRIPTION:
URL:https://www.icsva.org/event/jv-volleyball-vs-trinity-at-meadow-view/
LOCATION:Immanuel Christian School\, 6915 Braddock Rd\, Annandale\, VA\, United States
CATEGORIES:Athletics
GEO:38.811961;-77.183314
X-APPLE-STRUCTURED-LOCATION;VALUE=URI;X-ADDRESS=Immanuel Christian School 6915 Braddock Rd Annandale VA United States;X-APPLE-RADIUS=500;X-TITLE=6915 Braddock Rd:geo:-77.183314,38.811961
END:VEVENT
BEGIN:VEVENT
DTSTART;TZID=America/New_York:20250902T173000
DTEND;TZID=America/New_York:20250902T190000
DTSTAMP:20260424T090553
CREATED:20250821T011813Z
LAST-MODIFIED:20250902T023316Z
UID:10001676-1756834200-1756839600@www.icsva.org
SUMMARY:V Volleyball vs. Trinity at Meadow View
DESCRIPTION:
URL:https://www.icsva.org/event/v-volleyball-vs-trinity-at-meadow-view/
LOCATION:Immanuel Christian School\, 6915 Braddock Rd\, Annandale\, VA\, United States
CATEGORIES:Athletics
GEO:38.811961;-77.183314
X-APPLE-STRUCTURED-LOCATION;VALUE=URI;X-ADDRESS=Immanuel Christian School 6915 Braddock Rd Annandale VA United States;X-APPLE-RADIUS=500;X-TITLE=6915 Braddock Rd:geo:-77.183314,38.811961
END:VEVENT
BEGIN:VEVENT
DTSTART;TZID=America/New_York:20250904T160000
DTEND;TZID=America/New_York:20250904T170000
DTSTAMP:20260424T090553
CREATED:20250821T011814Z
LAST-MODIFIED:20250904T023317Z
UID:10001678-1757001600-1757005200@www.icsva.org
SUMMARY:MS Volleyball @ Trinity at Meadow View
DESCRIPTION:
URL:https://www.icsva.org/event/ms-volleyball-trinity-at-meadow-view/
LOCATION:Spring Hill Rec Center\, 1239 Spring Hill Rd\, McLean\, VA\, United States
CATEGORIES:Athletics
GEO:38.946923;-77.22806
X-APPLE-STRUCTURED-LOCATION;VALUE=URI;X-ADDRESS=Spring Hill Rec Center 1239 Spring Hill Rd McLean VA United States;X-APPLE-RADIUS=500;X-TITLE=1239 Spring Hill Rd:geo:-77.22806,38.946923
END:VEVENT
BEGIN:VEVENT
DTSTART;TZID=America/New_York:20250904T160000
DTEND;TZID=America/New_York:20250904T180000
DTSTAMP:20260424T090553
CREATED:20250821T011814Z
LAST-MODIFIED:20250904T023317Z
UID:10001677-1757001600-1757008800@www.icsva.org
SUMMARY:VG Tennis @ Randolph Macon Academy
DESCRIPTION:
URL:https://www.icsva.org/event/vg-tennis-randolph-macon-academy-2/
LOCATION:Randolph-Macon Academy\, 200 Academy Dr\, Front Royal\, VA\, United States
CATEGORIES:Athletics
GEO:38.923615;-78.197685
X-APPLE-STRUCTURED-LOCATION;VALUE=URI;X-ADDRESS=Randolph-Macon Academy 200 Academy Dr Front Royal VA United States;X-APPLE-RADIUS=500;X-TITLE=200 Academy Dr:geo:-78.197685,38.923615
END:VEVENT
BEGIN:VEVENT
DTSTART;TZID=America/New_York:20250905T163000
DTEND;TZID=America/New_York:20250905T180000
DTSTAMP:20260424T090553
CREATED:20250821T011814Z
LAST-MODIFIED:20250905T023326Z
UID:10001679-1757089800-1757095200@www.icsva.org
SUMMARY:V Soccer @ Chelsea Academy
DESCRIPTION:
URL:https://www.icsva.org/event/v-soccer-chelsea-academy/
LOCATION:Chelsea Academy\, 1200 Progress Rd\, Front Royal\, VA\, United States
CATEGORIES:Athletics
GEO:38.937571;-78.157995
X-APPLE-STRUCTURED-LOCATION;VALUE=URI;X-ADDRESS=Chelsea Academy 1200 Progress Rd Front Royal VA United States;X-APPLE-RADIUS=500;X-TITLE=1200 Progress Rd:geo:-78.157995,38.937571
END:VEVENT
BEGIN:VEVENT
DTSTART;VALUE=DATE:20250906
DTEND;VALUE=DATE:20250907
DTSTAMP:20260424T090553
CREATED:20250821T011814Z
LAST-MODIFIED:20250906T023330Z
UID:10001680-1757116800-1757203199@www.icsva.org
SUMMARY:V Volleyball Tournament @ Fredericksburg Christian School
DESCRIPTION:
URL:https://www.icsva.org/event/v-volleyball-tournament-fredericksburg-christian-school/
LOCATION:VA
CATEGORIES:Athletics
END:VEVENT
BEGIN:VEVENT
DTSTART;TZID=America/New_York:20250906T090000
DTEND;TZID=America/New_York:20250906T110000
DTSTAMP:20260424T090553
CREATED:20250821T011815Z
LAST-MODIFIED:20250906T023329Z
UID:10001681-1757149200-1757156400@www.icsva.org
SUMMARY:HS XC Meet- Monroe Parker Invitational
DESCRIPTION:
URL:https://www.icsva.org/event/hs-xc-meet-monroe-parker-invitational/
LOCATION:Burke Lake Park\, 7315 Ox Rd\, Fairfax Station\, VA\, United States
CATEGORIES:Athletics
GEO:38.758078;-77.30699
X-APPLE-STRUCTURED-LOCATION;VALUE=URI;X-ADDRESS=Burke Lake Park 7315 Ox Rd Fairfax Station VA United States;X-APPLE-RADIUS=500;X-TITLE=7315 Ox Rd:geo:-77.30699,38.758078
END:VEVENT
BEGIN:VEVENT
DTSTART;TZID=America/New_York:20250908T160000
DTEND;TZID=America/New_York:20250908T173000
DTSTAMP:20260424T090553
CREATED:20250821T011815Z
LAST-MODIFIED:20250908T023316Z
UID:10001682-1757347200-1757352600@www.icsva.org
SUMMARY:V Soccer @ Wakefield School
DESCRIPTION:
URL:https://www.icsva.org/event/v-soccer-wakefield-school/
LOCATION:Wakefield School\, 4439 Old Tavern Rd\, The Plains\, VA\, United States
CATEGORIES:Athletics
GEO:38.856625;-77.781084
X-APPLE-STRUCTURED-LOCATION;VALUE=URI;X-ADDRESS=Wakefield School 4439 Old Tavern Rd The Plains VA United States;X-APPLE-RADIUS=500;X-TITLE=4439 Old Tavern Rd:geo:-77.781084,38.856625
END:VEVENT
BEGIN:VEVENT
DTSTART;TZID=America/New_York:20250909T153000
DTEND;TZID=America/New_York:20250909T170000
DTSTAMP:20260424T090553
CREATED:20250821T011816Z
LAST-MODIFIED:20250909T023344Z
UID:10001685-1757431800-1757437200@www.icsva.org
SUMMARY:V Soccer @ Trinity at Meadow View
DESCRIPTION:
URL:https://www.icsva.org/event/v-soccer-trinity-at-meadow-view/
LOCATION:Pine Ridge Park\, 3401 Woodburn Rd\, Annandale\, VA\, United States
CATEGORIES:Athletics
GEO:38.854019;-77.230663
X-APPLE-STRUCTURED-LOCATION;VALUE=URI;X-ADDRESS=Pine Ridge Park 3401 Woodburn Rd Annandale VA United States;X-APPLE-RADIUS=500;X-TITLE=3401 Woodburn Rd:geo:-77.230663,38.854019
END:VEVENT
BEGIN:VEVENT
DTSTART;TZID=America/New_York:20250909T153000
DTEND;TZID=America/New_York:20250909T183000
DTSTAMP:20260424T090553
CREATED:20250821T011816Z
LAST-MODIFIED:20250909T023341Z
UID:10001688-1757431800-1757442600@www.icsva.org
SUMMARY:MS and HS XC Meet- VCAC #1
DESCRIPTION:
URL:https://www.icsva.org/event/ms-and-hs-xc-meet-vcac-1/
LOCATION:Saint John Paul the Great Catholic High School\, 17700 Dominican Dr\, Dumfries\, VA\, United States
CATEGORIES:Athletics
GEO:38.566347;-77.28859
X-APPLE-STRUCTURED-LOCATION;VALUE=URI;X-ADDRESS=Saint John Paul the Great Catholic High School 17700 Dominican Dr Dumfries VA United States;X-APPLE-RADIUS=500;X-TITLE=17700 Dominican Dr:geo:-77.28859,38.566347
END:VEVENT
BEGIN:VEVENT
DTSTART;TZID=America/New_York:20250909T160000
DTEND;TZID=America/New_York:20250909T170000
DTSTAMP:20260424T090553
CREATED:20250821T011816Z
LAST-MODIFIED:20250909T023345Z
UID:10001686-1757433600-1757437200@www.icsva.org
SUMMARY:MS Volleyball vs. Oakcrest School
DESCRIPTION:
URL:https://www.icsva.org/event/ms-volleyball-vs-oakcrest-school/
LOCATION:Immanuel Christian School\, 6915 Braddock Rd\, Annandale\, VA\, United States
CATEGORIES:Athletics
GEO:38.811961;-77.183314
X-APPLE-STRUCTURED-LOCATION;VALUE=URI;X-ADDRESS=Immanuel Christian School 6915 Braddock Rd Annandale VA United States;X-APPLE-RADIUS=500;X-TITLE=6915 Braddock Rd:geo:-77.183314,38.811961
END:VEVENT
BEGIN:VEVENT
DTSTART;TZID=America/New_York:20250909T160000
DTEND;TZID=America/New_York:20250909T171500
DTSTAMP:20260424T090553
CREATED:20250821T011815Z
LAST-MODIFIED:20250909T023343Z
UID:10001683-1757433600-1757438100@www.icsva.org
SUMMARY:MSB Soccer vs. Fairfax Home School
DESCRIPTION:
URL:https://www.icsva.org/event/msb-soccer-vs-fairfax-home-school-2/
LOCATION:Immanuel Christian School\, 6915 Braddock Rd\, Annandale\, VA\, United States
CATEGORIES:Athletics
GEO:38.811961;-77.183314
X-APPLE-STRUCTURED-LOCATION;VALUE=URI;X-ADDRESS=Immanuel Christian School 6915 Braddock Rd Annandale VA United States;X-APPLE-RADIUS=500;X-TITLE=6915 Braddock Rd:geo:-77.183314,38.811961
END:VEVENT
BEGIN:VEVENT
DTSTART;TZID=America/New_York:20250909T170000
DTEND;TZID=America/New_York:20250909T181500
DTSTAMP:20260424T090553
CREATED:20250821T011815Z
LAST-MODIFIED:20250909T023345Z
UID:10001684-1757437200-1757441700@www.icsva.org
SUMMARY:JV Volleyball vs. Oakcrest School
DESCRIPTION:
URL:https://www.icsva.org/event/jv-volleyball-vs-oakcrest-school/
LOCATION:Immanuel Christian School\, 6915 Braddock Rd\, Annandale\, VA\, United States
CATEGORIES:Athletics
GEO:38.811961;-77.183314
X-APPLE-STRUCTURED-LOCATION;VALUE=URI;X-ADDRESS=Immanuel Christian School 6915 Braddock Rd Annandale VA United States;X-APPLE-RADIUS=500;X-TITLE=6915 Braddock Rd:geo:-77.183314,38.811961
END:VEVENT
BEGIN:VEVENT
DTSTART;TZID=America/New_York:20250909T183000
DTEND;TZID=America/New_York:20250909T200000
DTSTAMP:20260424T090553
CREATED:20250821T011816Z
LAST-MODIFIED:20250909T023345Z
UID:10001687-1757442600-1757448000@www.icsva.org
SUMMARY:V Volleyball vs. Oakcrest School
DESCRIPTION:
URL:https://www.icsva.org/event/v-volleyball-vs-oakcrest-school/
LOCATION:Immanuel Christian School\, 6915 Braddock Rd\, Annandale\, VA\, United States
CATEGORIES:Athletics
GEO:38.811961;-77.183314
X-APPLE-STRUCTURED-LOCATION;VALUE=URI;X-ADDRESS=Immanuel Christian School 6915 Braddock Rd Annandale VA United States;X-APPLE-RADIUS=500;X-TITLE=6915 Braddock Rd:geo:-77.183314,38.811961
END:VEVENT
BEGIN:VEVENT
DTSTART;TZID=America/New_York:20250911T160000
DTEND;TZID=America/New_York:20250911T170000
DTSTAMP:20260424T090553
CREATED:20250821T011816Z
LAST-MODIFIED:20250911T024812Z
UID:10001689-1757606400-1757610000@www.icsva.org
SUMMARY:MS Volleyball vs. Christ Chapel Academy
DESCRIPTION:
URL:https://www.icsva.org/event/ms-volleyball-vs-christ-chapel-academy/
LOCATION:Immanuel Christian School\, 6915 Braddock Rd\, Annandale\, VA\, United States
CATEGORIES:Athletics
GEO:38.811961;-77.183314
X-APPLE-STRUCTURED-LOCATION;VALUE=URI;X-ADDRESS=Immanuel Christian School 6915 Braddock Rd Annandale VA United States;X-APPLE-RADIUS=500;X-TITLE=6915 Braddock Rd:geo:-77.183314,38.811961
END:VEVENT
BEGIN:VEVENT
DTSTART;TZID=America/New_York:20250911T160000
DTEND;TZID=America/New_York:20250911T171500
DTSTAMP:20260424T090553
CREATED:20250821T011817Z
LAST-MODIFIED:20250911T024812Z
UID:10001692-1757606400-1757610900@www.icsva.org
SUMMARY:MSB Soccer vs. Christ Chapel Academy
DESCRIPTION:
URL:https://www.icsva.org/event/msb-soccer-vs-christ-chapel-academy-2/
LOCATION:Immanuel Christian School\, 6915 Braddock Rd\, Annandale\, VA\, United States
CATEGORIES:Athletics
GEO:38.811961;-77.183314
X-APPLE-STRUCTURED-LOCATION;VALUE=URI;X-ADDRESS=Immanuel Christian School 6915 Braddock Rd Annandale VA United States;X-APPLE-RADIUS=500;X-TITLE=6915 Braddock Rd:geo:-77.183314,38.811961
END:VEVENT
BEGIN:VEVENT
DTSTART;TZID=America/New_York:20250911T160000
DTEND;TZID=America/New_York:20250911T180000
DTSTAMP:20260424T090553
CREATED:20250821T011817Z
LAST-MODIFIED:20250911T024812Z
UID:10001691-1757606400-1757613600@www.icsva.org
SUMMARY:VG Tennis vs. John Paul the Great
DESCRIPTION:
URL:https://www.icsva.org/event/vg-tennis-vs-john-paul-the-great/
LOCATION:Lincolnia Park Recreational Club\, 6501 Montrose St\, Alexandria\, VA\, United States
CATEGORIES:Athletics
GEO:38.814847;-77.160773
X-APPLE-STRUCTURED-LOCATION;VALUE=URI;X-ADDRESS=Lincolnia Park Recreational Club 6501 Montrose St Alexandria VA United States;X-APPLE-RADIUS=500;X-TITLE=6501 Montrose St:geo:-77.160773,38.814847
END:VEVENT
BEGIN:VEVENT
DTSTART;TZID=America/New_York:20250911T171500
DTEND;TZID=America/New_York:20250911T184500
DTSTAMP:20260424T090553
CREATED:20250821T011816Z
LAST-MODIFIED:20250911T024812Z
UID:10001690-1757610900-1757616300@www.icsva.org
SUMMARY:V Volleyball vs. Christ Chapel Academy
DESCRIPTION:
URL:https://www.icsva.org/event/v-volleyball-vs-christ-chapel-academy/
LOCATION:Immanuel Christian School\, 6915 Braddock Rd\, Annandale\, VA\, United States
CATEGORIES:Athletics
GEO:38.811961;-77.183314
X-APPLE-STRUCTURED-LOCATION;VALUE=URI;X-ADDRESS=Immanuel Christian School 6915 Braddock Rd Annandale VA United States;X-APPLE-RADIUS=500;X-TITLE=6915 Braddock Rd:geo:-77.183314,38.811961
END:VEVENT
BEGIN:VEVENT
DTSTART;TZID=America/New_York:20250916T153000
DTEND;TZID=America/New_York:20250916T170000
DTSTAMP:20260424T090553
CREATED:20250821T011818Z
LAST-MODIFIED:20250916T031818Z
UID:10001696-1758036600-1758042000@www.icsva.org
SUMMARY:V Soccer vs. Seton School
DESCRIPTION:
URL:https://www.icsva.org/event/v-soccer-vs-seton-school/
LOCATION:Loisdale Park\, 7419 Loisdale Rd\, Springfield\, VA\, United States
CATEGORIES:Athletics
GEO:38.75777;-77.182794
X-APPLE-STRUCTURED-LOCATION;VALUE=URI;X-ADDRESS=Loisdale Park 7419 Loisdale Rd Springfield VA United States;X-APPLE-RADIUS=500;X-TITLE=7419 Loisdale Rd:geo:-77.182794,38.75777
END:VEVENT
END:VCALENDAR