BEGIN:VCALENDAR
VERSION:2.0
PRODID:-//Immanuel Christian School - ECPv6.15.20//NONSGML v1.0//EN
CALSCALE:GREGORIAN
METHOD:PUBLISH
X-WR-CALNAME:Immanuel Christian School
X-ORIGINAL-URL:https://www.icsva.org
X-WR-CALDESC:Events for Immanuel Christian School
REFRESH-INTERVAL;VALUE=DURATION:PT1H
X-Robots-Tag:noindex
X-PUBLISHED-TTL:PT1H
BEGIN:VTIMEZONE
TZID:America/New_York
BEGIN:DAYLIGHT
TZOFFSETFROM:-0500
TZOFFSETTO:-0400
TZNAME:EDT
DTSTART:20250309T070000
END:DAYLIGHT
BEGIN:STANDARD
TZOFFSETFROM:-0400
TZOFFSETTO:-0500
TZNAME:EST
DTSTART:20251102T060000
END:STANDARD
BEGIN:DAYLIGHT
TZOFFSETFROM:-0500
TZOFFSETTO:-0400
TZNAME:EDT
DTSTART:20260308T070000
END:DAYLIGHT
BEGIN:STANDARD
TZOFFSETFROM:-0400
TZOFFSETTO:-0500
TZNAME:EST
DTSTART:20261101T060000
END:STANDARD
BEGIN:DAYLIGHT
TZOFFSETFROM:-0500
TZOFFSETTO:-0400
TZNAME:EDT
DTSTART:20270314T070000
END:DAYLIGHT
BEGIN:STANDARD
TZOFFSETFROM:-0400
TZOFFSETTO:-0500
TZNAME:EST
DTSTART:20271107T060000
END:STANDARD
END:VTIMEZONE
BEGIN:VEVENT
DTSTART;TZID=America/New_York:20260416T180000
DTEND;TZID=America/New_York:20260416T200000
DTSTAMP:20260424T074552
CREATED:20260213T014823Z
LAST-MODIFIED:20260416T064816Z
UID:10001906-1776362400-1776369600@www.icsva.org
SUMMARY:V Baseball vs Trinity Christian School
DESCRIPTION:
URL:https://www.icsva.org/event/v-baseball-vs-trinity-christian-school/
LOCATION:South County Middle School\, 8398 Laurel Crest Dr\, Lorton\, VA\, United States
CATEGORIES:Athletics
GEO:38.71851;-77.233031
X-APPLE-STRUCTURED-LOCATION;VALUE=URI;X-ADDRESS=South County Middle School 8398 Laurel Crest Dr Lorton VA United States;X-APPLE-RADIUS=500;X-TITLE=8398 Laurel Crest Dr:geo:-77.233031,38.71851
END:VEVENT
BEGIN:VEVENT
DTSTART;TZID=America/New_York:20260416T171500
DTEND;TZID=America/New_York:20260416T181500
DTSTAMP:20260424T074552
CREATED:20260324T044816Z
LAST-MODIFIED:20260416T064816Z
UID:10001958-1776359700-1776363300@www.icsva.org
SUMMARY:Flag Football @ Christ Chapel Academy
DESCRIPTION:
URL:https://www.icsva.org/event/flag-football-christ-chapel-academy/
LOCATION:Vint Hill Village Green Community Center\, 4235 Aiken Dr\, Warrenton\, VA\, United States
CATEGORIES:Athletics
GEO:38.744662;-77.683466
X-APPLE-STRUCTURED-LOCATION;VALUE=URI;X-ADDRESS=Vint Hill Village Green Community Center 4235 Aiken Dr Warrenton VA United States;X-APPLE-RADIUS=500;X-TITLE=4235 Aiken Dr:geo:-77.683466,38.744662
END:VEVENT
BEGIN:VEVENT
DTSTART;TZID=America/New_York:20260416T171500
DTEND;TZID=America/New_York:20260416T181500
DTSTAMP:20260424T074552
CREATED:20260227T031823Z
LAST-MODIFIED:20260323T044826Z
UID:10001933-1776359700-1776363300@www.icsva.org
SUMMARY:Flag Football vs Ad Fontes
DESCRIPTION:
URL:https://www.icsva.org/event/flag-football-vs-ad-fontes/
LOCATION:Vint Hill Village Green Community Center\, 4235 Aiken Dr\, Warrenton\, VA\, United States
CATEGORIES:Athletics
GEO:38.744662;-77.683466
X-APPLE-STRUCTURED-LOCATION;VALUE=URI;X-ADDRESS=Vint Hill Village Green Community Center 4235 Aiken Dr Warrenton VA United States;X-APPLE-RADIUS=500;X-TITLE=4235 Aiken Dr:geo:-77.683466,38.744662
END:VEVENT
BEGIN:VEVENT
DTSTART;TZID=America/New_York:20260416T163000
DTEND;TZID=America/New_York:20260416T180000
DTSTAMP:20260424T074552
CREATED:20260213T014823Z
LAST-MODIFIED:20260416T064816Z
UID:10001907-1776357000-1776362400@www.icsva.org
SUMMARY:VG Soccer @ Chelsea Academy
DESCRIPTION:
URL:https://www.icsva.org/event/vg-soccer-chelsea-academy-2/
LOCATION:Chelsea Academy\, 1200 Progress Rd\, Front Royal\, VA\, United States
CATEGORIES:Athletics
GEO:38.937571;-78.157995
X-APPLE-STRUCTURED-LOCATION;VALUE=URI;X-ADDRESS=Chelsea Academy 1200 Progress Rd Front Royal VA United States;X-APPLE-RADIUS=500;X-TITLE=1200 Progress Rd:geo:-78.157995,38.937571
END:VEVENT
BEGIN:VEVENT
DTSTART;TZID=America/New_York:20260416T161500
DTEND;TZID=America/New_York:20260416T171500
DTSTAMP:20260424T074552
CREATED:20260324T044816Z
LAST-MODIFIED:20260416T064816Z
UID:10001957-1776356100-1776359700@www.icsva.org
SUMMARY:Flag Football @ Covenant Christian Academy
DESCRIPTION:
URL:https://www.icsva.org/event/flag-football-covenant-christian-academy/
LOCATION:Vint Hill Village Green Community Center\, 4235 Aiken Dr\, Warrenton\, VA\, United States
CATEGORIES:Athletics
GEO:38.744662;-77.683466
X-APPLE-STRUCTURED-LOCATION;VALUE=URI;X-ADDRESS=Vint Hill Village Green Community Center 4235 Aiken Dr Warrenton VA United States;X-APPLE-RADIUS=500;X-TITLE=4235 Aiken Dr:geo:-77.683466,38.744662
END:VEVENT
BEGIN:VEVENT
DTSTART;TZID=America/New_York:20260416T161500
DTEND;TZID=America/New_York:20260416T171500
DTSTAMP:20260424T074552
CREATED:20260227T031823Z
LAST-MODIFIED:20260323T044826Z
UID:10001934-1776356100-1776359700@www.icsva.org
SUMMARY:Flag Football vs Dominion Christian
DESCRIPTION:
URL:https://www.icsva.org/event/flag-football-vs-dominion-christian/
LOCATION:Vint Hill Village Green Community Center\, 4235 Aiken Dr\, Warrenton\, VA\, United States
CATEGORIES:Athletics
GEO:38.744662;-77.683466
X-APPLE-STRUCTURED-LOCATION;VALUE=URI;X-ADDRESS=Vint Hill Village Green Community Center 4235 Aiken Dr Warrenton VA United States;X-APPLE-RADIUS=500;X-TITLE=4235 Aiken Dr:geo:-77.683466,38.744662
END:VEVENT
BEGIN:VEVENT
DTSTART;TZID=America/New_York:20260416T160000
DTEND;TZID=America/New_York:20260416T183000
DTSTAMP:20260424T074552
CREATED:20260306T033314Z
LAST-MODIFIED:20260416T064816Z
UID:10001951-1776355200-1776364200@www.icsva.org
SUMMARY:Golf @ Fredericksburg Christian School
DESCRIPTION:
URL:https://www.icsva.org/event/golf-fredericksburg-christian-school-2/
LOCATION:Fredericksburg Country Club\, 11031 Tidewater Trl\, Fredericksburg\, VA\, United States
CATEGORIES:Athletics
GEO:38.261054;-77.434463
X-APPLE-STRUCTURED-LOCATION;VALUE=URI;X-ADDRESS=Fredericksburg Country Club 11031 Tidewater Trl Fredericksburg VA United States;X-APPLE-RADIUS=500;X-TITLE=11031 Tidewater Trl:geo:-77.434463,38.261054
END:VEVENT
BEGIN:VEVENT
DTSTART;TZID=America/New_York:20260416T160000
DTEND;TZID=America/New_York:20260416T180000
DTSTAMP:20260424T074552
CREATED:20260213T014823Z
LAST-MODIFIED:20260416T064816Z
UID:10001909-1776355200-1776362400@www.icsva.org
SUMMARY:VB Tennis vs Trinity Christian School
DESCRIPTION:
URL:https://www.icsva.org/event/vb-tennis-vs-trinity-christian-school-3/
LOCATION:Lincolnia Park Recreational Club\, 6501 Montrose St\, Alexandria\, VA\, United States
CATEGORIES:Athletics
GEO:38.814847;-77.160773
X-APPLE-STRUCTURED-LOCATION;VALUE=URI;X-ADDRESS=Lincolnia Park Recreational Club 6501 Montrose St Alexandria VA United States;X-APPLE-RADIUS=500;X-TITLE=6501 Montrose St:geo:-77.160773,38.814847
END:VEVENT
BEGIN:VEVENT
DTSTART;TZID=America/New_York:20260416T160000
DTEND;TZID=America/New_York:20260416T171500
DTSTAMP:20260424T074552
CREATED:20260213T014823Z
LAST-MODIFIED:20260416T064816Z
UID:10001908-1776355200-1776359700@www.icsva.org
SUMMARY:MSG Soccer vs Trinity Christian School
DESCRIPTION:
URL:https://www.icsva.org/event/msg-soccer-vs-trinity-christian-school-3/
LOCATION:Immanuel Christian School\, 6915 Braddock Rd\, Annandale\, VA\, United States
CATEGORIES:Athletics
GEO:38.811961;-77.183314
X-APPLE-STRUCTURED-LOCATION;VALUE=URI;X-ADDRESS=Immanuel Christian School 6915 Braddock Rd Annandale VA United States;X-APPLE-RADIUS=500;X-TITLE=6915 Braddock Rd:geo:-77.183314,38.811961
END:VEVENT
BEGIN:VEVENT
DTSTART;TZID=America/New_York:20260414T180000
DTEND;TZID=America/New_York:20260414T190000
DTSTAMP:20260424T074552
CREATED:20260324T044815Z
LAST-MODIFIED:20260414T064811Z
UID:10001955-1776189600-1776193200@www.icsva.org
SUMMARY:Flag Football vs Fairfax Home School
DESCRIPTION:
URL:https://www.icsva.org/event/flag-football-vs-fairfax-home-school/
LOCATION:Immanuel Christian School\, 6915 Braddock Rd\, Annandale\, VA\, United States
CATEGORIES:Athletics
GEO:38.811961;-77.183314
X-APPLE-STRUCTURED-LOCATION;VALUE=URI;X-ADDRESS=Immanuel Christian School 6915 Braddock Rd Annandale VA United States;X-APPLE-RADIUS=500;X-TITLE=6915 Braddock Rd:geo:-77.183314,38.811961
END:VEVENT
BEGIN:VEVENT
DTSTART;TZID=America/New_York:20260414T160000
DTEND;TZID=America/New_York:20260414T183000
DTSTAMP:20260424T074552
CREATED:20260306T033314Z
LAST-MODIFIED:20260414T064811Z
UID:10001950-1776182400-1776191400@www.icsva.org
SUMMARY:Golf @ Trinity Christian School
DESCRIPTION:
URL:https://www.icsva.org/event/golf-trinity-christian-school-5/
LOCATION:Army Navy Country Club\, 1700 Army Navy Dr\, Arlington\, VA\, United States
CATEGORIES:Athletics
GEO:38.859612;-77.069164
X-APPLE-STRUCTURED-LOCATION;VALUE=URI;X-ADDRESS=Army Navy Country Club 1700 Army Navy Dr Arlington VA United States;X-APPLE-RADIUS=500;X-TITLE=1700 Army Navy Dr:geo:-77.069164,38.859612
END:VEVENT
BEGIN:VEVENT
DTSTART;TZID=America/New_York:20260414T160000
DTEND;TZID=America/New_York:20260414T170000
DTSTAMP:20260424T074552
CREATED:20260324T044815Z
LAST-MODIFIED:20260414T064811Z
UID:10001956-1776182400-1776186000@www.icsva.org
SUMMARY:Flag Football vs Dominion Christian School
DESCRIPTION:
URL:https://www.icsva.org/event/flag-football-vs-dominion-christian-school-2/
LOCATION:Immanuel Christian School\, 6915 Braddock Rd\, Annandale\, VA\, United States
CATEGORIES:Athletics
GEO:38.811961;-77.183314
X-APPLE-STRUCTURED-LOCATION;VALUE=URI;X-ADDRESS=Immanuel Christian School 6915 Braddock Rd Annandale VA United States;X-APPLE-RADIUS=500;X-TITLE=6915 Braddock Rd:geo:-77.183314,38.811961
END:VEVENT
BEGIN:VEVENT
DTSTART;TZID=America/New_York:20260414T154500
DTEND;TZID=America/New_York:20260414T170000
DTSTAMP:20260424T074552
CREATED:20260213T014823Z
LAST-MODIFIED:20260414T064811Z
UID:10001905-1776181500-1776186000@www.icsva.org
SUMMARY:MSG Soccer vs Trinity Academy at Meadow View
DESCRIPTION:
URL:https://www.icsva.org/event/msg-soccer-vs-trinity-academy-at-meadow-view/
LOCATION:Wakefield Park\, Annandale\, VA\, United States
CATEGORIES:Athletics
GEO:38.818724;-77.193037
END:VEVENT
BEGIN:VEVENT
DTSTART;TZID=America/New_York:20260414T153000
DTEND;TZID=America/New_York:20260414T170000
DTSTAMP:20260424T074552
CREATED:20260213T014823Z
LAST-MODIFIED:20260414T064811Z
UID:10001904-1776180600-1776186000@www.icsva.org
SUMMARY:VG Soccer @ Trinity Academy at Meadow View
DESCRIPTION:
URL:https://www.icsva.org/event/vg-soccer-trinity-academy-at-meadow-view/
LOCATION:Pine Ridge Park\, 3401 Woodburn Rd\, Annandale\, VA\, United States
CATEGORIES:Athletics
GEO:38.854019;-77.230663
X-APPLE-STRUCTURED-LOCATION;VALUE=URI;X-ADDRESS=Pine Ridge Park 3401 Woodburn Rd Annandale VA United States;X-APPLE-RADIUS=500;X-TITLE=3401 Woodburn Rd:geo:-77.230663,38.854019
END:VEVENT
BEGIN:VEVENT
DTSTART;TZID=America/New_York:20260413T170000
DTEND;TZID=America/New_York:20260413T190000
DTSTAMP:20260424T074552
CREATED:20260213T014822Z
LAST-MODIFIED:20260413T064821Z
UID:10001903-1776099600-1776106800@www.icsva.org
SUMMARY:V Baseball @ Quantico High School
DESCRIPTION:
URL:https://www.icsva.org/event/v-baseball-quantico-high-school/
LOCATION:Stafford American Legion Post 290\, Fredericksburg\, VA\, United States
CATEGORIES:Athletics
GEO:38.371857;-77.467749
END:VEVENT
BEGIN:VEVENT
DTSTART;TZID=America/New_York:20260413T170000
DTEND;TZID=America/New_York:20260413T180000
DTSTAMP:20260424T074552
CREATED:20260227T031822Z
LAST-MODIFIED:20260323T044825Z
UID:10001931-1776099600-1776103200@www.icsva.org
SUMMARY:Flag Football vs Fairfax Home School (G2)
DESCRIPTION:
URL:https://www.icsva.org/event/flag-football-vs-fairfax-home-school-g2/
LOCATION:Immanuel Christian School\, 6915 Braddock Rd\, Annandale\, VA\, United States
CATEGORIES:Athletics
GEO:38.811961;-77.183314
X-APPLE-STRUCTURED-LOCATION;VALUE=URI;X-ADDRESS=Immanuel Christian School 6915 Braddock Rd Annandale VA United States;X-APPLE-RADIUS=500;X-TITLE=6915 Braddock Rd:geo:-77.183314,38.811961
END:VEVENT
BEGIN:VEVENT
DTSTART;TZID=America/New_York:20260413T160000
DTEND;TZID=America/New_York:20260413T180000
DTSTAMP:20260424T074552
CREATED:20260213T014822Z
LAST-MODIFIED:20260413T064821Z
UID:10001902-1776096000-1776103200@www.icsva.org
SUMMARY:VB Tennis vs Evergreen Christian School
DESCRIPTION:
URL:https://www.icsva.org/event/vb-tennis-vs-evergreen-christian-school/
LOCATION:Lincolnia Park Recreational Club\, 6501 Montrose St\, Alexandria\, VA\, United States
CATEGORIES:Athletics
GEO:38.814847;-77.160773
X-APPLE-STRUCTURED-LOCATION;VALUE=URI;X-ADDRESS=Lincolnia Park Recreational Club 6501 Montrose St Alexandria VA United States;X-APPLE-RADIUS=500;X-TITLE=6501 Montrose St:geo:-77.160773,38.814847
END:VEVENT
BEGIN:VEVENT
DTSTART;TZID=America/New_York:20260413T160000
DTEND;TZID=America/New_York:20260413T170000
DTSTAMP:20260424T074552
CREATED:20260227T031822Z
LAST-MODIFIED:20260323T044825Z
UID:10001932-1776096000-1776099600@www.icsva.org
SUMMARY:Flag Football vs Fairfax Home School (G1)
DESCRIPTION:
URL:https://www.icsva.org/event/flag-football-vs-fairfax-home-school-g1/
LOCATION:Immanuel Christian School\, 6915 Braddock Rd\, Annandale\, VA\, United States
CATEGORIES:Athletics
GEO:38.811961;-77.183314
X-APPLE-STRUCTURED-LOCATION;VALUE=URI;X-ADDRESS=Immanuel Christian School 6915 Braddock Rd Annandale VA United States;X-APPLE-RADIUS=500;X-TITLE=6915 Braddock Rd:geo:-77.183314,38.811961
END:VEVENT
BEGIN:VEVENT
DTSTART;TZID=America/New_York:20260410T153000
DTEND;TZID=America/New_York:20260410T170000
DTSTAMP:20260424T074552
CREATED:20260213T014822Z
LAST-MODIFIED:20260410T061817Z
UID:10001901-1775835000-1775840400@www.icsva.org
SUMMARY:VG Soccer vs Fairfax Home School
DESCRIPTION:
URL:https://www.icsva.org/event/vg-soccer-vs-fairfax-home-school-2/
LOCATION:Wakefield Park\, Annandale\, VA\, United States
CATEGORIES:Athletics
GEO:38.818724;-77.193037
END:VEVENT
BEGIN:VEVENT
DTSTART;TZID=America/New_York:20260410T140000
DTEND;TZID=America/New_York:20260410T190000
DTSTAMP:20260424T074552
CREATED:20260409T061815Z
LAST-MODIFIED:20260410T061817Z
UID:10001968-1775829600-1775847600@www.icsva.org
SUMMARY:Shuttle #3 for track and field
DESCRIPTION:
URL:https://www.icsva.org/event/shuttle-3-for-track-and-field/
LOCATION:VA
CATEGORIES:Athletics
END:VEVENT
BEGIN:VEVENT
DTSTART;TZID=America/New_York:20260409T163000
DTEND;TZID=America/New_York:20260409T183000
DTSTAMP:20260424T074552
CREATED:20260213T014822Z
LAST-MODIFIED:20260409T061814Z
UID:10001898-1775752200-1775759400@www.icsva.org
SUMMARY:V Baseball @ Trinity Christian School
DESCRIPTION:
URL:https://www.icsva.org/event/v-baseball-trinity-christian-school/
LOCATION:Poplar Tree Park\, 4398 Via Dr\, Fairfax\, VA\, United States
CATEGORIES:Athletics
GEO:38.848582;-77.333202
X-APPLE-STRUCTURED-LOCATION;VALUE=URI;X-ADDRESS=Poplar Tree Park 4398 Via Dr Fairfax VA United States;X-APPLE-RADIUS=500;X-TITLE=4398 Via Dr:geo:-77.333202,38.848582
END:VEVENT
BEGIN:VEVENT
DTSTART;TZID=America/New_York:20260409T163000
DTEND;TZID=America/New_York:20260409T174500
DTSTAMP:20260424T074552
CREATED:20260213T014822Z
LAST-MODIFIED:20260409T061815Z
UID:10001899-1775752200-1775756700@www.icsva.org
SUMMARY:MSG Soccer @ Trinity Christian School
DESCRIPTION:
URL:https://www.icsva.org/event/msg-soccer-trinity-christian-school-3/
LOCATION:Trinity Christian School\, 11204 Braddock Rd\, Fairfax\, VA\, United States
CATEGORIES:Athletics
GEO:38.831582;-77.331964
X-APPLE-STRUCTURED-LOCATION;VALUE=URI;X-ADDRESS=Trinity Christian School 11204 Braddock Rd Fairfax VA United States;X-APPLE-RADIUS=500;X-TITLE=11204 Braddock Rd:geo:-77.331964,38.831582
END:VEVENT
BEGIN:VEVENT
DTSTART;TZID=America/New_York:20260409T160000
DTEND;TZID=America/New_York:20260409T183000
DTSTAMP:20260424T074552
CREATED:20260306T033313Z
LAST-MODIFIED:20260409T061814Z
UID:10001949-1775750400-1775759400@www.icsva.org
SUMMARY:Golf vs Virginia Academy
DESCRIPTION:
URL:https://www.icsva.org/event/golf-vs-virginia-academy-2/
LOCATION:Pinecrest Golf Course\, 6600 Little River Tpke\, Alexandria\, VA\, United States
CATEGORIES:Athletics
GEO:38.824947;-77.172859
X-APPLE-STRUCTURED-LOCATION;VALUE=URI;X-ADDRESS=Pinecrest Golf Course 6600 Little River Tpke Alexandria VA United States;X-APPLE-RADIUS=500;X-TITLE=6600 Little River Tpke:geo:-77.172859,38.824947
END:VEVENT
BEGIN:VEVENT
DTSTART;TZID=America/New_York:20260409T160000
DTEND;TZID=America/New_York:20260409T180000
DTSTAMP:20260424T074552
CREATED:20260213T014822Z
LAST-MODIFIED:20260409T061814Z
UID:10001900-1775750400-1775757600@www.icsva.org
SUMMARY:VB Tennis @ Trinity Christian School
DESCRIPTION:
URL:https://www.icsva.org/event/vb-tennis-trinity-christian-school-3/
LOCATION:Wakefield Park\, Annandale\, VA\, United States
CATEGORIES:Athletics
GEO:38.818724;-77.193037
END:VEVENT
BEGIN:VEVENT
DTSTART;TZID=America/New_York:20260326T180000
DTEND;TZID=America/New_York:20260326T200000
DTSTAMP:20260424T074552
CREATED:20260213T014821Z
LAST-MODIFIED:20260326T050320Z
UID:10001896-1774548000-1774555200@www.icsva.org
SUMMARY:V Baseball vs Flames Home School
DESCRIPTION:
URL:https://www.icsva.org/event/v-baseball-vs-flames-home-school/
LOCATION:South County Middle School\, 8398 Laurel Crest Dr\, Lorton\, VA\, United States
CATEGORIES:Athletics
GEO:38.71851;-77.233031
X-APPLE-STRUCTURED-LOCATION;VALUE=URI;X-ADDRESS=South County Middle School 8398 Laurel Crest Dr Lorton VA United States;X-APPLE-RADIUS=500;X-TITLE=8398 Laurel Crest Dr:geo:-77.233031,38.71851
END:VEVENT
BEGIN:VEVENT
DTSTART;TZID=America/New_York:20260326T160000
DTEND;TZID=America/New_York:20260326T183000
DTSTAMP:20260424T074552
CREATED:20260306T033312Z
LAST-MODIFIED:20260326T050320Z
UID:10001948-1774540800-1774549800@www.icsva.org
SUMMARY:Golf vs Trinity Christian School
DESCRIPTION:
URL:https://www.icsva.org/event/golf-vs-trinity-christian-school-2/
LOCATION:Pinecrest Golf Course\, 6600 Little River Tpke\, Alexandria\, VA\, United States
CATEGORIES:Athletics
GEO:38.824947;-77.172859
X-APPLE-STRUCTURED-LOCATION;VALUE=URI;X-ADDRESS=Pinecrest Golf Course 6600 Little River Tpke Alexandria VA United States;X-APPLE-RADIUS=500;X-TITLE=6600 Little River Tpke:geo:-77.172859,38.824947
END:VEVENT
BEGIN:VEVENT
DTSTART;TZID=America/New_York:20260326T160000
DTEND;TZID=America/New_York:20260326T180000
DTSTAMP:20260424T074552
CREATED:20260213T014821Z
LAST-MODIFIED:20260326T050321Z
UID:10001894-1774540800-1774548000@www.icsva.org
SUMMARY:VB Tennis vs Seton School
DESCRIPTION:
URL:https://www.icsva.org/event/vb-tennis-vs-seton-school-3/
LOCATION:Lincolnia Park Recreational Club\, 6501 Montrose St\, Alexandria\, VA\, United States
CATEGORIES:Athletics
GEO:38.814847;-77.160773
X-APPLE-STRUCTURED-LOCATION;VALUE=URI;X-ADDRESS=Lincolnia Park Recreational Club 6501 Montrose St Alexandria VA United States;X-APPLE-RADIUS=500;X-TITLE=6501 Montrose St:geo:-77.160773,38.814847
END:VEVENT
BEGIN:VEVENT
DTSTART;TZID=America/New_York:20260326T160000
DTEND;TZID=America/New_York:20260326T171500
DTSTAMP:20260424T074552
CREATED:20260213T014821Z
LAST-MODIFIED:20260326T050320Z
UID:10001897-1774540800-1774545300@www.icsva.org
SUMMARY:MSG Soccer vs Seton School
DESCRIPTION:
URL:https://www.icsva.org/event/msg-soccer-vs-seton-school-3/
LOCATION:Immanuel Christian School\, 6915 Braddock Rd\, Annandale\, VA\, United States
CATEGORIES:Athletics
GEO:38.811961;-77.183314
X-APPLE-STRUCTURED-LOCATION;VALUE=URI;X-ADDRESS=Immanuel Christian School 6915 Braddock Rd Annandale VA United States;X-APPLE-RADIUS=500;X-TITLE=6915 Braddock Rd:geo:-77.183314,38.811961
END:VEVENT
BEGIN:VEVENT
DTSTART;TZID=America/New_York:20260326T153000
DTEND;TZID=America/New_York:20260326T170000
DTSTAMP:20260424T074552
CREATED:20260213T014821Z
LAST-MODIFIED:20260326T050320Z
UID:10001895-1774539000-1774544400@www.icsva.org
SUMMARY:VG Soccer vs Evergreen Christian School
DESCRIPTION:
URL:https://www.icsva.org/event/vg-soccer-vs-evergreen-christian-school-2/
LOCATION:Wakefield Park\, Annandale\, VA\, United States
CATEGORIES:Athletics
GEO:38.818724;-77.193037
END:VEVENT
BEGIN:VEVENT
DTSTART;TZID=America/New_York:20260324T160000
DTEND;TZID=America/New_York:20260324T183000
DTSTAMP:20260424T074552
CREATED:20260306T033312Z
LAST-MODIFIED:20260324T044813Z
UID:10001947-1774368000-1774377000@www.icsva.org
SUMMARY:Golf vs Quantico
DESCRIPTION:
URL:https://www.icsva.org/event/golf-vs-quantico/
LOCATION:Pinecrest Golf Course\, 6600 Little River Tpke\, Alexandria\, VA\, United States
CATEGORIES:Athletics
GEO:38.824947;-77.172859
X-APPLE-STRUCTURED-LOCATION;VALUE=URI;X-ADDRESS=Pinecrest Golf Course 6600 Little River Tpke Alexandria VA United States;X-APPLE-RADIUS=500;X-TITLE=6600 Little River Tpke:geo:-77.172859,38.824947
END:VEVENT
END:VCALENDAR