BEGIN:VCALENDAR
VERSION:2.0
PRODID:-//Immanuel Christian School - ECPv6.15.20//NONSGML v1.0//EN
CALSCALE:GREGORIAN
METHOD:PUBLISH
X-ORIGINAL-URL:https://www.icsva.org
X-WR-CALDESC:Events for Immanuel Christian School
REFRESH-INTERVAL;VALUE=DURATION:PT1H
X-Robots-Tag:noindex
X-PUBLISHED-TTL:PT1H
BEGIN:VTIMEZONE
TZID:America/New_York
BEGIN:DAYLIGHT
TZOFFSETFROM:-0500
TZOFFSETTO:-0400
TZNAME:EDT
DTSTART:20240310T070000
END:DAYLIGHT
BEGIN:STANDARD
TZOFFSETFROM:-0400
TZOFFSETTO:-0500
TZNAME:EST
DTSTART:20241103T060000
END:STANDARD
BEGIN:DAYLIGHT
TZOFFSETFROM:-0500
TZOFFSETTO:-0400
TZNAME:EDT
DTSTART:20250309T070000
END:DAYLIGHT
BEGIN:STANDARD
TZOFFSETFROM:-0400
TZOFFSETTO:-0500
TZNAME:EST
DTSTART:20251102T060000
END:STANDARD
BEGIN:DAYLIGHT
TZOFFSETFROM:-0500
TZOFFSETTO:-0400
TZNAME:EDT
DTSTART:20260308T070000
END:DAYLIGHT
BEGIN:STANDARD
TZOFFSETFROM:-0400
TZOFFSETTO:-0500
TZNAME:EST
DTSTART:20261101T060000
END:STANDARD
END:VTIMEZONE
BEGIN:VEVENT
DTSTART;TZID=America/New_York:20251204T180000
DTEND;TZID=America/New_York:20251205T073000
DTSTAMP:20260425T093607
CREATED:20251120T081826Z
LAST-MODIFIED:20251205T093314Z
UID:10001796-1764871200-1764919800@www.icsva.org
SUMMARY:VB Basketball vs St. John's- RMA Tournament
DESCRIPTION:
URL:https://www.icsva.org/event/vb-basketball-vs-st-johns-rma-tournament/
LOCATION:Randolph-Macon Academy\, 200 Academy Dr\, Front Royal\, VA\, United States
CATEGORIES:Athletics
GEO:38.923615;-78.197685
X-APPLE-STRUCTURED-LOCATION;VALUE=URI;X-ADDRESS=Randolph-Macon Academy 200 Academy Dr Front Royal VA United States;X-APPLE-RADIUS=500;X-TITLE=200 Academy Dr:geo:-78.197685,38.923615
END:VEVENT
BEGIN:VEVENT
DTSTART;VALUE=DATE:20251205
DTEND;VALUE=DATE:20251206
DTSTAMP:20260425T093607
CREATED:20251120T081826Z
LAST-MODIFIED:20251205T093314Z
UID:10001799-1764892800-1764979199@www.icsva.org
SUMMARY:VB Basketball- RMA Tournament Game
DESCRIPTION:
URL:https://www.icsva.org/event/vb-basketball-rma-tournament-game-2/
LOCATION:Randolph-Macon Academy\, 200 Academy Dr\, Front Royal\, VA\, United States
CATEGORIES:Athletics
GEO:38.923615;-78.197685
X-APPLE-STRUCTURED-LOCATION;VALUE=URI;X-ADDRESS=Randolph-Macon Academy 200 Academy Dr Front Royal VA United States;X-APPLE-RADIUS=500;X-TITLE=200 Academy Dr:geo:-78.197685,38.923615
END:VEVENT
BEGIN:VEVENT
DTSTART;TZID=America/New_York:20251205T193000
DTEND;TZID=America/New_York:20251205T210000
DTSTAMP:20260425T093607
CREATED:20251120T081827Z
LAST-MODIFIED:20251205T093314Z
UID:10001800-1764963000-1764968400@www.icsva.org
SUMMARY:VG Basketball vs Front Royal Home School- RMA Tournament
DESCRIPTION:
URL:https://www.icsva.org/event/vg-basketball-vs-front-royal-home-school-rma-tournament/
LOCATION:Randolph-Macon Academy\, 200 Academy Dr\, Front Royal\, VA\, United States
CATEGORIES:Athletics
GEO:38.923615;-78.197685
X-APPLE-STRUCTURED-LOCATION;VALUE=URI;X-ADDRESS=Randolph-Macon Academy 200 Academy Dr Front Royal VA United States;X-APPLE-RADIUS=500;X-TITLE=200 Academy Dr:geo:-78.197685,38.923615
END:VEVENT
END:VCALENDAR