BEGIN:VCALENDAR
VERSION:2.0
PRODID:-//Immanuel Christian School - ECPv6.15.20//NONSGML v1.0//EN
CALSCALE:GREGORIAN
METHOD:PUBLISH
X-ORIGINAL-URL:https://www.icsva.org
X-WR-CALDESC:Events for Immanuel Christian School
REFRESH-INTERVAL;VALUE=DURATION:PT1H
X-Robots-Tag:noindex
X-PUBLISHED-TTL:PT1H
BEGIN:VTIMEZONE
TZID:America/New_York
BEGIN:DAYLIGHT
TZOFFSETFROM:-0500
TZOFFSETTO:-0400
TZNAME:EDT
DTSTART:20240310T070000
END:DAYLIGHT
BEGIN:STANDARD
TZOFFSETFROM:-0400
TZOFFSETTO:-0500
TZNAME:EST
DTSTART:20241103T060000
END:STANDARD
BEGIN:DAYLIGHT
TZOFFSETFROM:-0500
TZOFFSETTO:-0400
TZNAME:EDT
DTSTART:20250309T070000
END:DAYLIGHT
BEGIN:STANDARD
TZOFFSETFROM:-0400
TZOFFSETTO:-0500
TZNAME:EST
DTSTART:20251102T060000
END:STANDARD
BEGIN:DAYLIGHT
TZOFFSETFROM:-0500
TZOFFSETTO:-0400
TZNAME:EDT
DTSTART:20260308T070000
END:DAYLIGHT
BEGIN:STANDARD
TZOFFSETFROM:-0400
TZOFFSETTO:-0500
TZNAME:EST
DTSTART:20261101T060000
END:STANDARD
END:VTIMEZONE
BEGIN:VEVENT
DTSTART;TZID=America/New_York:20250124T161500
DTEND;TZID=America/New_York:20250124T171500
DTSTAMP:20260425T062854
CREATED:20241121T094828Z
LAST-MODIFIED:20250124T151815Z
UID:10001516-1737735300-1737738900@www.icsva.org
SUMMARY:MSB Basketball @ Ad Fontes Academy
DESCRIPTION:
URL:https://www.icsva.org/event/msb-basketball-ad-fontes-academy/
LOCATION:The nZone\, 14550 Lee Rd\, Chantilly\, VA\, United States
CATEGORIES:Athletics
GEO:38.891151;-77.45024
X-APPLE-STRUCTURED-LOCATION;VALUE=URI;X-ADDRESS=The nZone 14550 Lee Rd Chantilly VA United States;X-APPLE-RADIUS=500;X-TITLE=14550 Lee Rd:geo:-77.45024,38.891151
END:VEVENT
END:VCALENDAR