BEGIN:VCALENDAR
VERSION:2.0
PRODID:-//Immanuel Christian School - ECPv6.15.20//NONSGML v1.0//EN
CALSCALE:GREGORIAN
METHOD:PUBLISH
X-ORIGINAL-URL:https://www.icsva.org
X-WR-CALDESC:Events for Immanuel Christian School
REFRESH-INTERVAL;VALUE=DURATION:PT1H
X-Robots-Tag:noindex
X-PUBLISHED-TTL:PT1H
BEGIN:VTIMEZONE
TZID:America/New_York
BEGIN:DAYLIGHT
TZOFFSETFROM:-0500
TZOFFSETTO:-0400
TZNAME:EDT
DTSTART:20210314T070000
END:DAYLIGHT
BEGIN:STANDARD
TZOFFSETFROM:-0400
TZOFFSETTO:-0500
TZNAME:EST
DTSTART:20211107T060000
END:STANDARD
BEGIN:DAYLIGHT
TZOFFSETFROM:-0500
TZOFFSETTO:-0400
TZNAME:EDT
DTSTART:20220313T070000
END:DAYLIGHT
BEGIN:STANDARD
TZOFFSETFROM:-0400
TZOFFSETTO:-0500
TZNAME:EST
DTSTART:20221106T060000
END:STANDARD
BEGIN:DAYLIGHT
TZOFFSETFROM:-0500
TZOFFSETTO:-0400
TZNAME:EDT
DTSTART:20230312T070000
END:DAYLIGHT
BEGIN:STANDARD
TZOFFSETFROM:-0400
TZOFFSETTO:-0500
TZNAME:EST
DTSTART:20231105T060000
END:STANDARD
END:VTIMEZONE
BEGIN:VEVENT
DTSTART;TZID=America/New_York:20221006T153000
DTEND;TZID=America/New_York:20221006T170000
DTSTAMP:20260423T091213
CREATED:20221005T193603Z
LAST-MODIFIED:20221005T193603Z
UID:10000738-1665070200-1665075600@www.icsva.org
SUMMARY:VB soccer vs Fairfax Home School
DESCRIPTION:
URL:https://www.icsva.org/event/vb-soccer-vs-fairfax-home-school-2/
LOCATION:7419 Loisdale Rd\, Springfield\, VA 22150
CATEGORIES:Athletics
END:VEVENT
BEGIN:VEVENT
DTSTART;TZID=America/New_York:20221006T153000
DTEND;TZID=America/New_York:20221006T170000
DTSTAMP:20260423T091213
CREATED:20221006T194224Z
LAST-MODIFIED:20221006T194224Z
UID:10000740-1665070200-1665075600@www.icsva.org
SUMMARY:VB soccer vs Fairfax Home School
DESCRIPTION:
URL:https://www.icsva.org/event/vb-soccer-vs-fairfax-home-school/
LOCATION:7419 Loisdale Rd\, Springfield\, VA 22150
CATEGORIES:Athletics
END:VEVENT
BEGIN:VEVENT
DTSTART;TZID=America/New_York:20221006T170000
DTEND;TZID=America/New_York:20221006T180000
DTSTAMP:20260423T091213
CREATED:20221005T193603Z
LAST-MODIFIED:20221005T193603Z
UID:10000737-1665075600-1665079200@www.icsva.org
SUMMARY:JVG volleyball @ Fairfax Christian School
DESCRIPTION:
URL:https://www.icsva.org/event/jvg-volleyball-fairfax-christian-school/
LOCATION:Fairfax Christian School\, 22870 Pacific Blvd\, Sterling\, VA 20166\, USA
CATEGORIES:Athletics
END:VEVENT
BEGIN:VEVENT
DTSTART;TZID=America/New_York:20221006T170000
DTEND;TZID=America/New_York:20221006T180000
DTSTAMP:20260423T091213
CREATED:20221006T194224Z
LAST-MODIFIED:20221006T194224Z
UID:10000739-1665075600-1665079200@www.icsva.org
SUMMARY:JVG volleyball @ Fairfax Christian School
DESCRIPTION:
URL:https://www.icsva.org/event/jvg-volleyball-fairfax-christian-school-2/
LOCATION:Fairfax Christian School\, 22870 Pacific Blvd\, Sterling\, VA 20166\, USA
CATEGORIES:Athletics
END:VEVENT
END:VCALENDAR