BEGIN:VCALENDAR
VERSION:2.0
PRODID:-//Immanuel Christian School - ECPv6.15.20//NONSGML v1.0//EN
CALSCALE:GREGORIAN
METHOD:PUBLISH
X-ORIGINAL-URL:https://www.icsva.org
X-WR-CALDESC:Events for Immanuel Christian School
REFRESH-INTERVAL;VALUE=DURATION:PT1H
X-Robots-Tag:noindex
X-PUBLISHED-TTL:PT1H
BEGIN:VTIMEZONE
TZID:America/New_York
BEGIN:DAYLIGHT
TZOFFSETFROM:-0500
TZOFFSETTO:-0400
TZNAME:EDT
DTSTART:20250309T070000
END:DAYLIGHT
BEGIN:STANDARD
TZOFFSETFROM:-0400
TZOFFSETTO:-0500
TZNAME:EST
DTSTART:20251102T060000
END:STANDARD
BEGIN:DAYLIGHT
TZOFFSETFROM:-0500
TZOFFSETTO:-0400
TZNAME:EDT
DTSTART:20260308T070000
END:DAYLIGHT
BEGIN:STANDARD
TZOFFSETFROM:-0400
TZOFFSETTO:-0500
TZNAME:EST
DTSTART:20261101T060000
END:STANDARD
BEGIN:DAYLIGHT
TZOFFSETFROM:-0500
TZOFFSETTO:-0400
TZNAME:EDT
DTSTART:20270314T070000
END:DAYLIGHT
BEGIN:STANDARD
TZOFFSETFROM:-0400
TZOFFSETTO:-0500
TZNAME:EST
DTSTART:20271107T060000
END:STANDARD
END:VTIMEZONE
BEGIN:VEVENT
DTSTART;TZID=America/New_York:20260420T160000
DTEND;TZID=America/New_York:20260420T180000
DTSTAMP:20260420T083408
CREATED:20260213T014824Z
LAST-MODIFIED:20260420T070316Z
UID:10001911-1776700800-1776708000@www.icsva.org
SUMMARY:VB Tennis @ John Paul the Great
DESCRIPTION:
URL:https://www.icsva.org/event/vb-tennis-john-paul-the-great-2/
LOCATION:17325 River Ridge Blvd\, Dumfries\, VA\, United States
CATEGORIES:Athletics
GEO:38.56762;-77.32804
END:VEVENT
BEGIN:VEVENT
DTSTART;TZID=America/New_York:20260420T173000
DTEND;TZID=America/New_York:20260420T193000
DTSTAMP:20260420T083408
CREATED:20260213T014823Z
LAST-MODIFIED:20260420T070316Z
UID:10001910-1776706200-1776713400@www.icsva.org
SUMMARY:V Baseball vs Randolph Macon Academy
DESCRIPTION:
URL:https://www.icsva.org/event/v-baseball-vs-randolph-macon-academy/
LOCATION:Poplar Tree Park\, 4398 Via Dr\, Fairfax\, VA\, United States
CATEGORIES:Athletics
GEO:38.848582;-77.333202
X-APPLE-STRUCTURED-LOCATION;VALUE=URI;X-ADDRESS=Poplar Tree Park 4398 Via Dr Fairfax VA United States;X-APPLE-RADIUS=500;X-TITLE=4398 Via Dr:geo:-77.333202,38.848582
END:VEVENT
BEGIN:VEVENT
DTSTART;TZID=America/New_York:20260421T153000
DTEND;TZID=America/New_York:20260421T170000
DTSTAMP:20260420T083408
CREATED:20260213T014824Z
LAST-MODIFIED:20260408T061825Z
UID:10001912-1776785400-1776790800@www.icsva.org
SUMMARY:VG Soccer vs Wakefield School
DESCRIPTION:
URL:https://www.icsva.org/event/vg-soccer-vs-wakefield-school/
LOCATION:Wakefield Park\, Annandale\, VA\, United States
CATEGORIES:Athletics
GEO:38.818724;-77.193037
END:VEVENT
BEGIN:VEVENT
DTSTART;TZID=America/New_York:20260421T160000
DTEND;TZID=America/New_York:20260421T171500
DTSTAMP:20260420T083408
CREATED:20260213T014824Z
LAST-MODIFIED:20260420T070317Z
UID:10001913-1776787200-1776791700@www.icsva.org
SUMMARY:MSG Soccer vs Virginia Academy
DESCRIPTION:
URL:https://www.icsva.org/event/msg-soccer-vs-virginia-academy-2/
LOCATION:Immanuel Christian School\, 6915 Braddock Rd\, Annandale\, VA\, United States
CATEGORIES:Athletics
GEO:38.811961;-77.183314
X-APPLE-STRUCTURED-LOCATION;VALUE=URI;X-ADDRESS=Immanuel Christian School 6915 Braddock Rd Annandale VA United States;X-APPLE-RADIUS=500;X-TITLE=6915 Braddock Rd:geo:-77.183314,38.811961
END:VEVENT
BEGIN:VEVENT
DTSTART;TZID=America/New_York:20260421T160000
DTEND;TZID=America/New_York:20260421T183000
DTSTAMP:20260420T083408
CREATED:20260306T033315Z
LAST-MODIFIED:20260420T070317Z
UID:10001953-1776787200-1776796200@www.icsva.org
SUMMARY:Golf @ Virginia Academy
DESCRIPTION:
URL:https://www.icsva.org/event/golf-virginia-academy/
LOCATION:1757 Golf Club\, 45501 Dulles Plz\, Sterling\, VA\, United States
CATEGORIES:Athletics
GEO:38.977684;-77.42461
X-APPLE-STRUCTURED-LOCATION;VALUE=URI;X-ADDRESS=1757 Golf Club 45501 Dulles Plz Sterling VA United States;X-APPLE-RADIUS=500;X-TITLE=45501 Dulles Plz:geo:-77.42461,38.977684
END:VEVENT
BEGIN:VEVENT
DTSTART;TZID=America/New_York:20260421T161500
DTEND;TZID=America/New_York:20260421T171500
DTSTAMP:20260420T083408
CREATED:20260227T031823Z
LAST-MODIFIED:20260323T044827Z
UID:10001935-1776788100-1776791700@www.icsva.org
SUMMARY:Flag Football vs Covenant Christian
DESCRIPTION:
URL:https://www.icsva.org/event/flag-football-vs-covenant-christian/
LOCATION:Vint Hill Village Green Community Center\, 4235 Aiken Dr\, Warrenton\, VA\, United States
CATEGORIES:Athletics
GEO:38.744662;-77.683466
X-APPLE-STRUCTURED-LOCATION;VALUE=URI;X-ADDRESS=Vint Hill Village Green Community Center 4235 Aiken Dr Warrenton VA United States;X-APPLE-RADIUS=500;X-TITLE=4235 Aiken Dr:geo:-77.683466,38.744662
END:VEVENT
BEGIN:VEVENT
DTSTART;TZID=America/New_York:20260421T161500
DTEND;TZID=America/New_York:20260421T171500
DTSTAMP:20260420T083408
CREATED:20260324T044817Z
LAST-MODIFIED:20260420T070317Z
UID:10001960-1776788100-1776791700@www.icsva.org
SUMMARY:Flag Football @ Fairfax Christian School
DESCRIPTION:
URL:https://www.icsva.org/event/flag-football-fairfax-christian-school/
LOCATION:Vint Hill Village Green Community Center\, 4235 Aiken Dr\, Warrenton\, VA\, United States
CATEGORIES:Athletics
GEO:38.744662;-77.683466
X-APPLE-STRUCTURED-LOCATION;VALUE=URI;X-ADDRESS=Vint Hill Village Green Community Center 4235 Aiken Dr Warrenton VA United States;X-APPLE-RADIUS=500;X-TITLE=4235 Aiken Dr:geo:-77.683466,38.744662
END:VEVENT
BEGIN:VEVENT
DTSTART;TZID=America/New_York:20260421T171500
DTEND;TZID=America/New_York:20260421T181500
DTSTAMP:20260420T083408
CREATED:20260227T031824Z
LAST-MODIFIED:20260323T044827Z
UID:10001936-1776791700-1776795300@www.icsva.org
SUMMARY:Flag Football vs Providence Academy
DESCRIPTION:
URL:https://www.icsva.org/event/flag-football-vs-providence-academy/
LOCATION:Vint Hill Village Green Community Center\, 4235 Aiken Dr\, Warrenton\, VA\, United States
CATEGORIES:Athletics
GEO:38.744662;-77.683466
X-APPLE-STRUCTURED-LOCATION;VALUE=URI;X-ADDRESS=Vint Hill Village Green Community Center 4235 Aiken Dr Warrenton VA United States;X-APPLE-RADIUS=500;X-TITLE=4235 Aiken Dr:geo:-77.683466,38.744662
END:VEVENT
BEGIN:VEVENT
DTSTART;TZID=America/New_York:20260421T171500
DTEND;TZID=America/New_York:20260421T181500
DTSTAMP:20260420T083408
CREATED:20260324T044817Z
LAST-MODIFIED:20260420T070316Z
UID:10001959-1776791700-1776795300@www.icsva.org
SUMMARY:Flag Football @ Ad Fontes Academy
DESCRIPTION:
URL:https://www.icsva.org/event/flag-football-ad-fontes-academy/
LOCATION:Vint Hill Village Green Community Center\, 4235 Aiken Dr\, Warrenton\, VA\, United States
CATEGORIES:Athletics
GEO:38.744662;-77.683466
X-APPLE-STRUCTURED-LOCATION;VALUE=URI;X-ADDRESS=Vint Hill Village Green Community Center 4235 Aiken Dr Warrenton VA United States;X-APPLE-RADIUS=500;X-TITLE=4235 Aiken Dr:geo:-77.683466,38.744662
END:VEVENT
BEGIN:VEVENT
DTSTART;TZID=America/New_York:20260423T153000
DTEND;TZID=America/New_York:20260423T170000
DTSTAMP:20260420T083408
CREATED:20260213T014824Z
LAST-MODIFIED:20260420T070318Z
UID:10001914-1776958200-1776963600@www.icsva.org
SUMMARY:VG Soccer vs Fredericksburg Academy
DESCRIPTION:
URL:https://www.icsva.org/event/vg-soccer-vs-fredericksburg-academy/
LOCATION:Wakefield Park\, Annandale\, VA\, United States
CATEGORIES:Athletics
GEO:38.818724;-77.193037
END:VEVENT
BEGIN:VEVENT
DTSTART;TZID=America/New_York:20260423T154500
DTEND;TZID=America/New_York:20260423T170000
DTSTAMP:20260420T083408
CREATED:20260213T014824Z
LAST-MODIFIED:20260420T070317Z
UID:10001915-1776959100-1776963600@www.icsva.org
SUMMARY:MSG Soccer @ Seton School
DESCRIPTION:
URL:https://www.icsva.org/event/msg-soccer-seton-school-2/
LOCATION:Valley View Park\, 11930 Valley View Dr\, Nokesville\, VA\, United States
CATEGORIES:Athletics
GEO:38.696381;-77.534432
X-APPLE-STRUCTURED-LOCATION;VALUE=URI;X-ADDRESS=Valley View Park 11930 Valley View Dr Nokesville VA United States;X-APPLE-RADIUS=500;X-TITLE=11930 Valley View Dr:geo:-77.534432,38.696381
END:VEVENT
BEGIN:VEVENT
DTSTART;TZID=America/New_York:20260423T160000
DTEND;TZID=America/New_York:20260423T170000
DTSTAMP:20260420T083408
CREATED:20260324T044818Z
LAST-MODIFIED:20260420T070318Z
UID:10001961-1776960000-1776963600@www.icsva.org
SUMMARY:Flag Football vs Ad Fontes Academy
DESCRIPTION:
URL:https://www.icsva.org/event/flag-football-vs-ad-fontes-academy-2/
LOCATION:Immanuel Christian School\, 6915 Braddock Rd\, Annandale\, VA\, United States
CATEGORIES:Athletics
GEO:38.811961;-77.183314
X-APPLE-STRUCTURED-LOCATION;VALUE=URI;X-ADDRESS=Immanuel Christian School 6915 Braddock Rd Annandale VA United States;X-APPLE-RADIUS=500;X-TITLE=6915 Braddock Rd:geo:-77.183314,38.811961
END:VEVENT
BEGIN:VEVENT
DTSTART;TZID=America/New_York:20260423T160000
DTEND;TZID=America/New_York:20260423T180000
DTSTAMP:20260420T083408
CREATED:20260213T014825Z
LAST-MODIFIED:20260420T070317Z
UID:10001917-1776960000-1776967200@www.icsva.org
SUMMARY:VB Tennis @ Seton School
DESCRIPTION:
URL:https://www.icsva.org/event/vb-tennis-seton-school-4/
LOCATION:Metz Middle School\, 9950 Wellington Rd\, Manassas\, VA\, United States
CATEGORIES:Athletics
GEO:38.743585;-77.465786
X-APPLE-STRUCTURED-LOCATION;VALUE=URI;X-ADDRESS=Metz Middle School 9950 Wellington Rd Manassas VA United States;X-APPLE-RADIUS=500;X-TITLE=9950 Wellington Rd:geo:-77.465786,38.743585
END:VEVENT
BEGIN:VEVENT
DTSTART;TZID=America/New_York:20260423T180000
DTEND;TZID=America/New_York:20260423T190000
DTSTAMP:20260420T083408
CREATED:20260324T044818Z
LAST-MODIFIED:20260420T070317Z
UID:10001962-1776967200-1776970800@www.icsva.org
SUMMARY:Flag Football vs Covenant Christian Academy
DESCRIPTION:
URL:https://www.icsva.org/event/flag-football-vs-covenant-christian-academy-2/
LOCATION:Immanuel Christian School\, 6915 Braddock Rd\, Annandale\, VA\, United States
CATEGORIES:Athletics
GEO:38.811961;-77.183314
X-APPLE-STRUCTURED-LOCATION;VALUE=URI;X-ADDRESS=Immanuel Christian School 6915 Braddock Rd Annandale VA United States;X-APPLE-RADIUS=500;X-TITLE=6915 Braddock Rd:geo:-77.183314,38.811961
END:VEVENT
BEGIN:VEVENT
DTSTART;TZID=America/New_York:20260423T180000
DTEND;TZID=America/New_York:20260423T200000
DTSTAMP:20260420T083408
CREATED:20260213T014825Z
LAST-MODIFIED:20260420T070317Z
UID:10001916-1776967200-1776974400@www.icsva.org
SUMMARY:V Baseball @ Annandale High School
DESCRIPTION:
URL:https://www.icsva.org/event/v-baseball-annandale-high-school/
LOCATION:Annandale High School\, 4698 Medford Dr\, Annandale\, VA\, United States
CATEGORIES:Athletics
GEO:38.823027;-77.207489
X-APPLE-STRUCTURED-LOCATION;VALUE=URI;X-ADDRESS=Annandale High School 4698 Medford Dr Annandale VA United States;X-APPLE-RADIUS=500;X-TITLE=4698 Medford Dr:geo:-77.207489,38.823027
END:VEVENT
BEGIN:VEVENT
DTSTART;TZID=America/New_York:20260427T160000
DTEND;TZID=America/New_York:20260427T180000
DTSTAMP:20260420T083408
CREATED:20260213T014825Z
LAST-MODIFIED:20260420T070318Z
UID:10001919-1777305600-1777312800@www.icsva.org
SUMMARY:VB Tennis @ Fairfax Home School
DESCRIPTION:
URL:https://www.icsva.org/event/vb-tennis-fairfax-home-school/
LOCATION:Lake Braddock Secondary School\, 9181 Burke Lake Rd\, Burke\, VA\, United States
CATEGORIES:Athletics
GEO:38.800503;-77.26586
X-APPLE-STRUCTURED-LOCATION;VALUE=URI;X-ADDRESS=Lake Braddock Secondary School 9181 Burke Lake Rd Burke VA United States;X-APPLE-RADIUS=500;X-TITLE=9181 Burke Lake Rd:geo:-77.26586,38.800503
END:VEVENT
BEGIN:VEVENT
DTSTART;TZID=America/New_York:20260427T163000
DTEND;TZID=America/New_York:20260427T180000
DTSTAMP:20260420T083408
CREATED:20260213T014825Z
LAST-MODIFIED:20260420T070318Z
UID:10001918-1777307400-1777312800@www.icsva.org
SUMMARY:VG Soccer @ Foxcroft School
DESCRIPTION:
URL:https://www.icsva.org/event/vg-soccer-foxcroft-school/
LOCATION:Foxcroft School\, 22407 Foxhound Ln\, Middleburg\, VA\, United States
CATEGORIES:Athletics
GEO:39.01157;-77.755059
X-APPLE-STRUCTURED-LOCATION;VALUE=URI;X-ADDRESS=Foxcroft School 22407 Foxhound Ln Middleburg VA United States;X-APPLE-RADIUS=500;X-TITLE=22407 Foxhound Ln:geo:-77.755059,39.01157
END:VEVENT
BEGIN:VEVENT
DTSTART;TZID=America/New_York:20260427T173000
DTEND;TZID=America/New_York:20260427T193000
DTSTAMP:20260420T083408
CREATED:20260325T044815Z
LAST-MODIFIED:20260420T070318Z
UID:10001967-1777311000-1777318200@www.icsva.org
SUMMARY:V Baseball vs Quantico High School
DESCRIPTION:
URL:https://www.icsva.org/event/v-baseball-vs-quantico-high-school/
LOCATION:Poplar Tree Park\, 4398 Via Dr\, Fairfax\, VA\, United States
CATEGORIES:Athletics
GEO:38.848582;-77.333202
X-APPLE-STRUCTURED-LOCATION;VALUE=URI;X-ADDRESS=Poplar Tree Park 4398 Via Dr Fairfax VA United States;X-APPLE-RADIUS=500;X-TITLE=4398 Via Dr:geo:-77.333202,38.848582
END:VEVENT
BEGIN:VEVENT
DTSTART;TZID=America/New_York:20260428T160000
DTEND;TZID=America/New_York:20260428T190000
DTSTAMP:20260420T083408
CREATED:20260414T064814Z
LAST-MODIFIED:20260420T070318Z
UID:10001970-1777392000-1777402800@www.icsva.org
SUMMARY:Track and Field- VCAC Meet
DESCRIPTION:
URL:https://www.icsva.org/event/track-and-field-vcac-meet/
LOCATION:Saint John Paul the Great Catholic High School\, 17700 Dominican Dr\, Dumfries\, VA\, United States
CATEGORIES:Athletics
GEO:38.566347;-77.28859
X-APPLE-STRUCTURED-LOCATION;VALUE=URI;X-ADDRESS=Saint John Paul the Great Catholic High School 17700 Dominican Dr Dumfries VA United States;X-APPLE-RADIUS=500;X-TITLE=17700 Dominican Dr:geo:-77.28859,38.566347
END:VEVENT
BEGIN:VEVENT
DTSTART;TZID=America/New_York:20260428T171500
DTEND;TZID=America/New_York:20260428T181500
DTSTAMP:20260420T083408
CREATED:20260324T044818Z
LAST-MODIFIED:20260420T070318Z
UID:10001963-1777396500-1777400100@www.icsva.org
SUMMARY:Flag Football @ Fairfax Home School
DESCRIPTION:
URL:https://www.icsva.org/event/flag-football-fairfax-home-school/
LOCATION:Vint Hill Village Green Community Center\, 4235 Aiken Dr\, Warrenton\, VA\, United States
CATEGORIES:Athletics
GEO:38.744662;-77.683466
X-APPLE-STRUCTURED-LOCATION;VALUE=URI;X-ADDRESS=Vint Hill Village Green Community Center 4235 Aiken Dr Warrenton VA United States;X-APPLE-RADIUS=500;X-TITLE=4235 Aiken Dr:geo:-77.683466,38.744662
END:VEVENT
BEGIN:VEVENT
DTSTART;TZID=America/New_York:20260428T181500
DTEND;TZID=America/New_York:20260428T191500
DTSTAMP:20260420T083408
CREATED:20260324T044818Z
LAST-MODIFIED:20260420T070318Z
UID:10001964-1777400100-1777403700@www.icsva.org
SUMMARY:Flag Football @ Dominion Christian School
DESCRIPTION:
URL:https://www.icsva.org/event/flag-football-dominion-christian-school/
LOCATION:Vint Hill Village Green Community Center\, 4235 Aiken Dr\, Warrenton\, VA\, United States
CATEGORIES:Athletics
GEO:38.744662;-77.683466
X-APPLE-STRUCTURED-LOCATION;VALUE=URI;X-ADDRESS=Vint Hill Village Green Community Center 4235 Aiken Dr Warrenton VA United States;X-APPLE-RADIUS=500;X-TITLE=4235 Aiken Dr:geo:-77.683466,38.744662
END:VEVENT
BEGIN:VEVENT
DTSTART;TZID=America/New_York:20260430T153000
DTEND;TZID=America/New_York:20260430T170000
DTSTAMP:20260420T083408
CREATED:20260213T014825Z
LAST-MODIFIED:20260420T070319Z
UID:10001920-1777563000-1777568400@www.icsva.org
SUMMARY:VG Soccer vs Chelsea Academy
DESCRIPTION:
URL:https://www.icsva.org/event/vg-soccer-vs-chelsea-academy-3/
LOCATION:Wakefield Park\, Annandale\, VA\, United States
CATEGORIES:Athletics
GEO:38.818724;-77.193037
END:VEVENT
BEGIN:VEVENT
DTSTART;TZID=America/New_York:20260430T160000
DTEND;TZID=America/New_York:20260430T171500
DTSTAMP:20260420T083408
CREATED:20260213T014825Z
LAST-MODIFIED:20260420T070319Z
UID:10001921-1777564800-1777569300@www.icsva.org
SUMMARY:MSG Soccer @ Oakcrest School
DESCRIPTION:
URL:https://www.icsva.org/event/msg-soccer-oakcrest-school-3/
LOCATION:Oakcrest School\, 1619 Crowell Rd\, Vienna\, VA\, United States
CATEGORIES:Athletics
GEO:38.951847;-77.306565
X-APPLE-STRUCTURED-LOCATION;VALUE=URI;X-ADDRESS=Oakcrest School 1619 Crowell Rd Vienna VA United States;X-APPLE-RADIUS=500;X-TITLE=1619 Crowell Rd:geo:-77.306565,38.951847
END:VEVENT
BEGIN:VEVENT
DTSTART;TZID=America/New_York:20260430T160000
DTEND;TZID=America/New_York:20260430T180000
DTSTAMP:20260420T083408
CREATED:20260213T014826Z
LAST-MODIFIED:20260420T070319Z
UID:10001923-1777564800-1777572000@www.icsva.org
SUMMARY:VB Tennis vs Randolph Macon Academy
DESCRIPTION:
URL:https://www.icsva.org/event/vb-tennis-vs-randolph-macon-academy-3/
LOCATION:Lincolnia Park Recreational Club\, 6501 Montrose St\, Alexandria\, VA\, United States
CATEGORIES:Athletics
GEO:38.814847;-77.160773
X-APPLE-STRUCTURED-LOCATION;VALUE=URI;X-ADDRESS=Lincolnia Park Recreational Club 6501 Montrose St Alexandria VA United States;X-APPLE-RADIUS=500;X-TITLE=6501 Montrose St:geo:-77.160773,38.814847
END:VEVENT
BEGIN:VEVENT
DTSTART;TZID=America/New_York:20260430T160000
DTEND;TZID=America/New_York:20260430T183000
DTSTAMP:20260420T083408
CREATED:20260306T033317Z
LAST-MODIFIED:20260420T070319Z
UID:10001954-1777564800-1777573800@www.icsva.org
SUMMARY:Golf: VCAC Championship Match
DESCRIPTION:
URL:https://www.icsva.org/event/golf-vcac-championship-match/
LOCATION:Fredericksburg Country Club\, 11031 Tidewater Trl\, Fredericksburg\, VA\, United States
CATEGORIES:Athletics
GEO:38.261054;-77.434463
X-APPLE-STRUCTURED-LOCATION;VALUE=URI;X-ADDRESS=Fredericksburg Country Club 11031 Tidewater Trl Fredericksburg VA United States;X-APPLE-RADIUS=500;X-TITLE=11031 Tidewater Trl:geo:-77.434463,38.261054
END:VEVENT
BEGIN:VEVENT
DTSTART;TZID=America/New_York:20260430T161500
DTEND;TZID=America/New_York:20260430T171500
DTSTAMP:20260420T083408
CREATED:20260227T031825Z
LAST-MODIFIED:20260323T044828Z
UID:10001938-1777565700-1777569300@www.icsva.org
SUMMARY:Flag Football vs Christ Chapel Academy
DESCRIPTION:
URL:https://www.icsva.org/event/flag-football-vs-christ-chapel-academy-3/
LOCATION:Vint Hill Village Green Community Center\, 4235 Aiken Dr\, Warrenton\, VA\, United States
CATEGORIES:Athletics
GEO:38.744662;-77.683466
X-APPLE-STRUCTURED-LOCATION;VALUE=URI;X-ADDRESS=Vint Hill Village Green Community Center 4235 Aiken Dr Warrenton VA United States;X-APPLE-RADIUS=500;X-TITLE=4235 Aiken Dr:geo:-77.683466,38.744662
END:VEVENT
BEGIN:VEVENT
DTSTART;TZID=America/New_York:20260430T171500
DTEND;TZID=America/New_York:20260430T181500
DTSTAMP:20260420T083408
CREATED:20260227T031825Z
LAST-MODIFIED:20260323T044829Z
UID:10001937-1777569300-1777572900@www.icsva.org
SUMMARY:Flag Football vs Fairfax Christian School
DESCRIPTION:
URL:https://www.icsva.org/event/flag-football-vs-fairfax-christian-school-2/
LOCATION:Vint Hill Village Green Community Center\, 4235 Aiken Dr\, Warrenton\, VA\, United States
CATEGORIES:Athletics
GEO:38.744662;-77.683466
X-APPLE-STRUCTURED-LOCATION;VALUE=URI;X-ADDRESS=Vint Hill Village Green Community Center 4235 Aiken Dr Warrenton VA United States;X-APPLE-RADIUS=500;X-TITLE=4235 Aiken Dr:geo:-77.683466,38.744662
END:VEVENT
BEGIN:VEVENT
DTSTART;TZID=America/New_York:20260430T173000
DTEND;TZID=America/New_York:20260430T193000
DTSTAMP:20260420T083408
CREATED:20260213T014825Z
LAST-MODIFIED:20260420T070319Z
UID:10001922-1777570200-1777577400@www.icsva.org
SUMMARY:V Baseball vs Fredericksburg Victory
DESCRIPTION:
URL:https://www.icsva.org/event/v-baseball-vs-fredericksburg-victory/
LOCATION:South Run Recreation Center\, 7550 Reservation Dr\, Springfield\, VA\, United States
CATEGORIES:Athletics
GEO:38.751854;-77.274419
X-APPLE-STRUCTURED-LOCATION;VALUE=URI;X-ADDRESS=South Run Recreation Center 7550 Reservation Dr Springfield VA United States;X-APPLE-RADIUS=500;X-TITLE=7550 Reservation Dr:geo:-77.274419,38.751854
END:VEVENT
END:VCALENDAR